BEGIN:VCALENDAR
VERSION:2.0
PRODID:-//Neotech Products - ECPv6.15.20//NONSGML v1.0//EN
CALSCALE:GREGORIAN
METHOD:PUBLISH
X-WR-CALNAME:Neotech Products
X-ORIGINAL-URL:https://www.neotechproducts.com
X-WR-CALDESC:Events for Neotech Products
REFRESH-INTERVAL;VALUE=DURATION:PT1H
X-Robots-Tag:noindex
X-PUBLISHED-TTL:PT1H
BEGIN:VTIMEZONE
TZID:UTC
BEGIN:STANDARD
TZOFFSETFROM:+0000
TZOFFSETTO:+0000
TZNAME:UTC
DTSTART:20150101T000000
END:STANDARD
END:VTIMEZONE
BEGIN:VEVENT
DTSTART;TZID=UTC:20160421T080000
DTEND;TZID=UTC:20160424T120000
DTSTAMP:20260425T120936
CREATED:20160126T024919Z
LAST-MODIFIED:20160126T024919Z
UID:9582-1461225600-1461499200@www.neotechproducts.com
SUMMARY:Society of Pediatric Nurses Annual Conference
DESCRIPTION:The SPN Annual Conference is uniquely designed for pediatric nurses and professionals with an interest in pediatric healthcare who want to stay abreast of the latest advances in the care of children from infancy through adolescence.  The conference provides insight into the latest evidence in pediatric care and its application in the practice setting.  Participates leave with a renewed sense of enthusiasm for practice as a result of networking and sharing the successes of others in pediatric care across the nation.
URL:https://www.neotechproducts.com/event/society-of-pediatric-nurses-annual-conference/
LOCATION:Hilton- Minneapolis\, 1001 Marquette Avenue South\, Minneapolis\, MN\, 55403\, United States
END:VEVENT
END:VCALENDAR