BEGIN:VCALENDAR
VERSION:2.0
PRODID:-//Neotech Products - ECPv6.15.20//NONSGML v1.0//EN
CALSCALE:GREGORIAN
METHOD:PUBLISH
X-WR-CALNAME:Neotech Products
X-ORIGINAL-URL:https://www.neotechproducts.com
X-WR-CALDESC:Events for Neotech Products
REFRESH-INTERVAL;VALUE=DURATION:PT1H
X-Robots-Tag:noindex
X-PUBLISHED-TTL:PT1H
BEGIN:VTIMEZONE
TZID:UTC
BEGIN:STANDARD
TZOFFSETFROM:+0000
TZOFFSETTO:+0000
TZNAME:UTC
DTSTART:20150101T000000
END:STANDARD
END:VTIMEZONE
BEGIN:VEVENT
DTSTART;TZID=UTC:20160511T080000
DTEND;TZID=UTC:20160513T170000
DTSTAMP:20260425T103353
CREATED:20160126T041204Z
LAST-MODIFIED:20160126T041204Z
UID:9591-1462953600-1463158800@www.neotechproducts.com
SUMMARY:Airborne Neonatal & Pediatric Transport Conference
DESCRIPTION:International Biomedical is hosting its 14th Annual AirBorne Neonatal and Pediatric Transport Conference in Austin\, Texas on May 11-13\, 2016. This conference allows transport professionals to learn new techniques and the latest advances in neonatal and pediatric transport from experts in their field and by interacting with other teams from across the US\, Canada\, and around the world.
URL:https://www.neotechproducts.com/event/airborne-neonatal-pediatric-transport-conference/
LOCATION:Sheraton Austin Hotel\, 701 E. 11th Street\, Austin\, TX\, 78701\, United States
END:VEVENT
END:VCALENDAR