BEGIN:VCALENDAR
VERSION:2.0
PRODID:-//Neotech Products - ECPv6.15.20//NONSGML v1.0//EN
CALSCALE:GREGORIAN
METHOD:PUBLISH
X-WR-CALNAME:Neotech Products
X-ORIGINAL-URL:https://www.neotechproducts.com
X-WR-CALDESC:Events for Neotech Products
REFRESH-INTERVAL;VALUE=DURATION:PT1H
X-Robots-Tag:noindex
X-PUBLISHED-TTL:PT1H
BEGIN:VTIMEZONE
TZID:UTC
BEGIN:STANDARD
TZOFFSETFROM:+0000
TZOFFSETTO:+0000
TZNAME:UTC
DTSTART:20150101T000000
END:STANDARD
END:VTIMEZONE
BEGIN:VEVENT
DTSTART;TZID=UTC:20160616T080000
DTEND;TZID=UTC:20160619T170000
DTSTAMP:20260425T084842
CREATED:20160126T030347Z
LAST-MODIFIED:20160126T030347Z
UID:9588-1466064000-1466355600@www.neotechproducts.com
SUMMARY:SMA Conference
DESCRIPTION:The annual conference is the largest SMA conference in the world. Through the conference\, we bring together researchers\, healthcare professionals\, and families to network\, learn\, and collaborate. The family conference includes a variety of workshops\, keynote sessions with leading researchers\, a family-friendly research poster session\, and more—plus fun events like our dance party\, meet-and-greet\, pajama party and movie night\, and teen and adult social activities.
URL:https://www.neotechproducts.com/event/sma-conference/
LOCATION:Disneyland® Hotel\, 1150 Magic Way\, Anaheim\, CA\, 92802\, United States
END:VEVENT
END:VCALENDAR