BEGIN:VCALENDAR
VERSION:2.0
PRODID:-//Neotech Products - ECPv6.15.20//NONSGML v1.0//EN
CALSCALE:GREGORIAN
METHOD:PUBLISH
X-WR-CALNAME:Neotech Products
X-ORIGINAL-URL:https://www.neotechproducts.com
X-WR-CALDESC:Events for Neotech Products
REFRESH-INTERVAL;VALUE=DURATION:PT1H
X-Robots-Tag:noindex
X-PUBLISHED-TTL:PT1H
BEGIN:VTIMEZONE
TZID:UTC
BEGIN:STANDARD
TZOFFSETFROM:+0000
TZOFFSETTO:+0000
TZNAME:UTC
DTSTART:20150101T000000
END:STANDARD
END:VTIMEZONE
BEGIN:VEVENT
DTSTART;TZID=UTC:20160623T130000
DTEND;TZID=UTC:20160623T140000
DTSTAMP:20260425T084841
CREATED:20160616T232436Z
LAST-MODIFIED:20160616T232436Z
UID:11087-1466686800-1466690400@www.neotechproducts.com
SUMMARY:Neotech CARES Webinar: Skin Injuries in the NICU
DESCRIPTION:Presented by Media Esser\, RN\, MSN\, NNP-BC \nClick here to learn more. 
URL:https://www.neotechproducts.com/event/neotech-cares-webinar-skin-injuries-in-the-nicu/
END:VEVENT
END:VCALENDAR