BEGIN:VCALENDAR
VERSION:2.0
PRODID:-//Neotech Products - ECPv6.15.20//NONSGML v1.0//EN
CALSCALE:GREGORIAN
METHOD:PUBLISH
X-WR-CALNAME:Neotech Products
X-ORIGINAL-URL:https://www.neotechproducts.com
X-WR-CALDESC:Events for Neotech Products
REFRESH-INTERVAL;VALUE=DURATION:PT1H
X-Robots-Tag:noindex
X-PUBLISHED-TTL:PT1H
BEGIN:VTIMEZONE
TZID:UTC
BEGIN:STANDARD
TZOFFSETFROM:+0000
TZOFFSETTO:+0000
TZNAME:UTC
DTSTART:20160101T000000
END:STANDARD
END:VTIMEZONE
BEGIN:VEVENT
DTSTART;TZID=UTC:20170419T080000
DTEND;TZID=UTC:20170422T170000
DTSTAMP:20260424T144444
CREATED:20170331T214910Z
LAST-MODIFIED:20170331T214910Z
UID:13497-1492588800-1492880400@www.neotechproducts.com
SUMMARY:14th Annual National Advanced Practice Neonatal Nurses Conference
DESCRIPTION:ANN is celebrating our 14th National Advanced Practice Neonatal Nurses Conference with a return to everyone’s favorite conference destination\, Hawaii. Expand your nursing knowledge\, earn your CNE credits\, and network your colleagues as you learn from top experts in the field. Connect with your peers as we welcome experienced staff nurses\, neonatal nurse practitioners\, and clinical nurse specialists. \nThis conference offers you a great opportunity to treat yourself and enjoy the islands. We conclude the program each day around 1:00 pm to leave you plenty of time to swim\, snorkel\, shop\, sightsee\, scuba dive\, spa\, and satiate your appetite with sushi and swordfish! No better place to re-energize yourself and return to your unit the best nurse you can be!
URL:https://www.neotechproducts.com/event/14th-annual-national-advanced-practice-neonatal-nurses-conference/
LOCATION:Hilton Hawaiian Village Waikiki Beach Resort\, 2005 Kalia Rd\, Honolulu\, HI\, 96815\, United States
END:VEVENT
END:VCALENDAR