BEGIN:VCALENDAR
VERSION:2.0
PRODID:-//Neotech Products - ECPv6.15.20//NONSGML v1.0//EN
CALSCALE:GREGORIAN
METHOD:PUBLISH
X-ORIGINAL-URL:https://www.neotechproducts.com
X-WR-CALDESC:Events for Neotech Products
REFRESH-INTERVAL;VALUE=DURATION:PT1H
X-Robots-Tag:noindex
X-PUBLISHED-TTL:PT1H
BEGIN:VTIMEZONE
TZID:UTC
BEGIN:STANDARD
TZOFFSETFROM:+0000
TZOFFSETTO:+0000
TZNAME:UTC
DTSTART:20160101T000000
END:STANDARD
END:VTIMEZONE
BEGIN:VEVENT
DTSTART;TZID=UTC:20170425T080000
DTEND;TZID=UTC:20170429T170000
DTSTAMP:20260424T144535
CREATED:20170331T220104Z
LAST-MODIFIED:20170331T220104Z
UID:13504-1493107200-1493485200@www.neotechproducts.com
SUMMARY:21st Annual NICU Leadership Forum
DESCRIPTION:Synova Associates is pleased to announce our 21st Annual NICU Leadership Forum entitled Play by Play: Winning Strategies for Influential Leaders.  The program blends cutting-edge information from nationally recognized speakers\, panel discussions highlighting clinical and leadership best practices\, individual presentations by meeting attendees\, and many networking and social activities.
URL:https://www.neotechproducts.com/event/21st-annual-nicu-leadership-forum/
LOCATION:The Wigwam\, 300 Wigwam Ln\, Litchfield Park\, AZ\, 85340\, United States
END:VEVENT
BEGIN:VEVENT
DTSTART;TZID=UTC:20170426T080000
DTEND;TZID=UTC:20170426T170000
DTSTAMP:20260424T144535
CREATED:20170331T215703Z
LAST-MODIFIED:20170331T215703Z
UID:13500-1493193600-1493226000@www.neotechproducts.com
SUMMARY:Pomona Valley Hospital Medical Center 27th Annual Perinatal Symposium
DESCRIPTION:This educational conference is designated for healthcare providers in the fields of obstetrics (including high-risk OB\, labor and delivery\, post-partum\, and nursery) and neonatology. Many of the attendees are nurse managers and supervisors. The day is formatted with morning general sessions and afternoon workshops. Both a continental breakfast and sit down luncheon are served with a wine and cheese reception following. \nThe event’s timely topics and key lectures draw in participants representing more than 50 Southern California medical facilities. Last year alone\, there were over 600 participants.
URL:https://www.neotechproducts.com/event/pomona-valley-hospital-medical-center-27th-annual-perinatal-symposium/
LOCATION:Sheraton Fairplex Conference Center\, 601 West McKinley Avenue\, Pomona\, CA\, 91768\, United States
END:VEVENT
END:VCALENDAR