BEGIN:VCALENDAR
VERSION:2.0
PRODID:-//Neotech Products - ECPv6.15.20//NONSGML v1.0//EN
CALSCALE:GREGORIAN
METHOD:PUBLISH
X-WR-CALNAME:Neotech Products
X-ORIGINAL-URL:https://www.neotechproducts.com
X-WR-CALDESC:Events for Neotech Products
REFRESH-INTERVAL;VALUE=DURATION:PT1H
X-Robots-Tag:noindex
X-PUBLISHED-TTL:PT1H
BEGIN:VTIMEZONE
TZID:UTC
BEGIN:STANDARD
TZOFFSETFROM:+0000
TZOFFSETTO:+0000
TZNAME:UTC
DTSTART:20160101T000000
END:STANDARD
END:VTIMEZONE
BEGIN:VEVENT
DTSTART;TZID=UTC:20170614T080000
DTEND;TZID=UTC:20170616T170000
DTSTAMP:20260424T112750
CREATED:20170331T232928Z
LAST-MODIFIED:20170331T232928Z
UID:13515-1497427200-1497632400@www.neotechproducts.com
SUMMARY:APIC 2017
DESCRIPTION:APIC delivers the largest annual audience of infection preventionists who influence product purchasing for healthcare facilities—over 2\,500 clinical professionals. We stage the only exhibit hall in the world dedicated to infection prevention and control with exclusive hall hours\, quality leads\, and numerous sponsorship opportunities.
URL:https://www.neotechproducts.com/event/apic-2017/
LOCATION:Oregon Convention Center\, 777 NE Martin Luther King Jr Blvd\, Portland \, OR\, 97232\, United States
END:VEVENT
END:VCALENDAR