BEGIN:VCALENDAR
VERSION:2.0
PRODID:-//Neotech Products - ECPv6.15.20//NONSGML v1.0//EN
CALSCALE:GREGORIAN
METHOD:PUBLISH
X-WR-CALNAME:Neotech Products
X-ORIGINAL-URL:https://www.neotechproducts.com
X-WR-CALDESC:Events for Neotech Products
REFRESH-INTERVAL;VALUE=DURATION:PT1H
X-Robots-Tag:noindex
X-PUBLISHED-TTL:PT1H
BEGIN:VTIMEZONE
TZID:UTC
BEGIN:STANDARD
TZOFFSETFROM:+0000
TZOFFSETTO:+0000
TZNAME:UTC
DTSTART:20160101T000000
END:STANDARD
END:VTIMEZONE
BEGIN:VEVENT
DTSTART;TZID=UTC:20170624T080000
DTEND;TZID=UTC:20170628T170000
DTSTAMP:20260424T094002
CREATED:20170331T233804Z
LAST-MODIFIED:20170331T233804Z
UID:13518-1498291200-1498669200@www.neotechproducts.com
SUMMARY:2017 AWHONN Convention
DESCRIPTION:Join us for the recognized premier event for Obstetric\, Neonatal and Women’s Health Nurses. Learn how to integrate new strategies and tactics that improve outcomes in your facility. We want you to be able to bring back new and innovative solutions that can make an immediate impact. Don’t miss this event!
URL:https://www.neotechproducts.com/event/2017-awhonn-convention/
LOCATION:New Orleans Ernest N. Morial Convention Center\, 900 Convention Center Blvd\, New Orleans \, LA\, 70130\, United States
END:VEVENT
END:VCALENDAR