BEGIN:VCALENDAR
VERSION:2.0
PRODID:-//Neotech Products - ECPv6.15.20//NONSGML v1.0//EN
CALSCALE:GREGORIAN
METHOD:PUBLISH
X-ORIGINAL-URL:https://www.neotechproducts.com
X-WR-CALDESC:Events for Neotech Products
REFRESH-INTERVAL;VALUE=DURATION:PT1H
X-Robots-Tag:noindex
X-PUBLISHED-TTL:PT1H
BEGIN:VTIMEZONE
TZID:UTC
BEGIN:STANDARD
TZOFFSETFROM:+0000
TZOFFSETTO:+0000
TZNAME:UTC
DTSTART:20160101T000000
END:STANDARD
END:VTIMEZONE
BEGIN:VEVENT
DTSTART;TZID=UTC:20170809T080000
DTEND;TZID=UTC:20170809T163000
DTSTAMP:20260424T075428
CREATED:20170727T223011Z
LAST-MODIFIED:20170727T223011Z
UID:13636-1502265600-1502296200@www.neotechproducts.com
SUMMARY:Henry Mayo Respiratory Symposium
DESCRIPTION:This dynamic\, integrated symposium will provide healthcare professional with the most comprehensive information vital to core knowledge base of the respiratory patient.
URL:https://www.neotechproducts.com/event/henry-mayo-respiratory-symposium/
LOCATION:Henry Mayo Center\, 23803 McBean Pkwy\, Santa Clarita\, CA\, 91355\, United States
END:VEVENT
END:VCALENDAR