BEGIN:VCALENDAR
VERSION:2.0
PRODID:-//Neotech Products - ECPv6.15.20//NONSGML v1.0//EN
CALSCALE:GREGORIAN
METHOD:PUBLISH
X-WR-CALNAME:Neotech Products
X-ORIGINAL-URL:https://www.neotechproducts.com
X-WR-CALDESC:Events for Neotech Products
REFRESH-INTERVAL;VALUE=DURATION:PT1H
X-Robots-Tag:noindex
X-PUBLISHED-TTL:PT1H
BEGIN:VTIMEZONE
TZID:UTC
BEGIN:STANDARD
TZOFFSETFROM:+0000
TZOFFSETTO:+0000
TZNAME:UTC
DTSTART:20160101T000000
END:STANDARD
END:VTIMEZONE
BEGIN:VEVENT
DTSTART;TZID=UTC:20170817T080000
DTEND;TZID=UTC:20170817T153000
DTSTAMP:20260424T075306
CREATED:20170727T224936Z
LAST-MODIFIED:20170811T052456Z
UID:13640-1502956800-1502983800@www.neotechproducts.com
SUMMARY:Neotech CARES Conference
DESCRIPTION:Neotech CARES is a continuing education symposium focused on the needs of patients\, familes\, and caregivers. \nTopics include:\nPatient Safety in the Age of Inattention: Science and Solutions\n– Donna Ford\, MSN\, RN-BC\, CNOR\, CRCST \nNeonatal Sepsis\n – Jan Thape MSN\, RNC-NIC \nZIKA: What you need to know *Topic Change*\n – Dr. Adam Czynski \nNRP Update\n – Richard Hernandez\, RCP \nImprove Care and Shorten Length of Stay for NAS Babies\n – Dr. Adam Czynski \nHope in the NICU\n – Mary and Jack Davis \nThis event is pending approval for 6.5 contact hours of Continuing Nursing Education credit by BRN CEP #15417 and may be reciprocal for other disciplines.
URL:https://www.neotechproducts.com/event/neotech-cares-conference/
LOCATION:Hyatt Regency Valencia\, 24500 Town Center Drive\, Valencia\, CA\, 91355\, United States
END:VEVENT
END:VCALENDAR