BEGIN:VCALENDAR
VERSION:2.0
PRODID:-//Neotech Products - ECPv6.15.20//NONSGML v1.0//EN
CALSCALE:GREGORIAN
METHOD:PUBLISH
X-WR-CALNAME:Neotech Products
X-ORIGINAL-URL:https://www.neotechproducts.com
X-WR-CALDESC:Events for Neotech Products
REFRESH-INTERVAL;VALUE=DURATION:PT1H
X-Robots-Tag:noindex
X-PUBLISHED-TTL:PT1H
BEGIN:VTIMEZONE
TZID:UTC
BEGIN:STANDARD
TZOFFSETFROM:+0000
TZOFFSETTO:+0000
TZNAME:UTC
DTSTART:20160101T000000
END:STANDARD
END:VTIMEZONE
BEGIN:VEVENT
DTSTART;TZID=UTC:20170921T073000
DTEND;TZID=UTC:20170921T163000
DTSTAMP:20260424T060535
CREATED:20170727T230233Z
LAST-MODIFIED:20170727T230233Z
UID:13645-1505979000-1506011400@www.neotechproducts.com
SUMMARY:22nd Annual ICANN Conference
DESCRIPTION:Providing information that brings excellence to clinical practice with a focus on healing: Small Baby Protocol; Neurodevelopmental Protection; Caring for Self; Parent’s perspective on loss in the NICU; Nurses Dealing with Loss; Legal Aspects of NICU Nursing.
URL:https://www.neotechproducts.com/event/22nd-annual-icann-conference/
LOCATION:Christ’s Church of the Valley- Etiwanda Gardens\, 7576 Etiwanda Avenue\, Etiwanda\, CA\, 91739\, United States
END:VEVENT
END:VCALENDAR