BEGIN:VCALENDAR
VERSION:2.0
PRODID:-//Neotech Products - ECPv6.15.20//NONSGML v1.0//EN
CALSCALE:GREGORIAN
METHOD:PUBLISH
X-WR-CALNAME:Neotech Products
X-ORIGINAL-URL:https://www.neotechproducts.com
X-WR-CALDESC:Events for Neotech Products
REFRESH-INTERVAL;VALUE=DURATION:PT1H
X-Robots-Tag:noindex
X-PUBLISHED-TTL:PT1H
BEGIN:VTIMEZONE
TZID:America/Los_Angeles
BEGIN:DAYLIGHT
TZOFFSETFROM:-0800
TZOFFSETTO:-0700
TZNAME:PDT
DTSTART:20170312T100000
END:DAYLIGHT
BEGIN:STANDARD
TZOFFSETFROM:-0700
TZOFFSETTO:-0800
TZNAME:PST
DTSTART:20171105T090000
END:STANDARD
BEGIN:DAYLIGHT
TZOFFSETFROM:-0800
TZOFFSETTO:-0700
TZNAME:PDT
DTSTART:20180311T100000
END:DAYLIGHT
BEGIN:STANDARD
TZOFFSETFROM:-0700
TZOFFSETTO:-0800
TZNAME:PST
DTSTART:20181104T090000
END:STANDARD
BEGIN:DAYLIGHT
TZOFFSETFROM:-0800
TZOFFSETTO:-0700
TZNAME:PDT
DTSTART:20190310T100000
END:DAYLIGHT
BEGIN:STANDARD
TZOFFSETFROM:-0700
TZOFFSETTO:-0800
TZNAME:PST
DTSTART:20191103T090000
END:STANDARD
END:VTIMEZONE
BEGIN:VEVENT
DTSTART;TZID=America/Los_Angeles:20180204T120000
DTEND;TZID=America/Los_Angeles:20180206T123000
DTSTAMP:20260423T214303
CREATED:20180110T170329Z
LAST-MODIFIED:20180129T163356Z
UID:15922-1517745600-1517920200@www.neotechproducts.com
SUMMARY:The One Conference
DESCRIPTION:NeuroNICU’s or Neuro-Critical Care Nurseries are strategically appearing all over the world – and it is now critical to unify and standardize nursing care practices. Bedside nurses in the NICU are caring for the most vulnerable organ\, the developing newborn brain\, every day and continuity of care begins with education. \nThis conference was a first of its kind and was created through the collaboration of NeuroNICU nurses and\, as such\, focuses solely on the professional nursing practice standards related to caring for the injured or at-risk newborn brain. \nExhibit Hours\nMonday\, February 5:\n7:00 – 8:00AM\n10:00 – 10:30AM\n12:30 – 1:15PM\n3:30 – 4:00PM\n5:15 – 6:00PM \nTuesday\, February 6:\n7:00 – 8:00AM\n10:00 – 10:30AM
URL:https://www.neotechproducts.com/event/the-one-conference/
LOCATION:Kona Kai Resort & Spa\, 1551 Shelter Island Dr\, San Diego\, CA\, 92106\, United States
END:VEVENT
END:VCALENDAR