BEGIN:VCALENDAR
VERSION:2.0
PRODID:-//Neotech Products - ECPv6.15.20//NONSGML v1.0//EN
CALSCALE:GREGORIAN
METHOD:PUBLISH
X-WR-CALNAME:Neotech Products
X-ORIGINAL-URL:https://www.neotechproducts.com
X-WR-CALDESC:Events for Neotech Products
REFRESH-INTERVAL;VALUE=DURATION:PT1H
X-Robots-Tag:noindex
X-PUBLISHED-TTL:PT1H
BEGIN:VTIMEZONE
TZID:America/Los_Angeles
BEGIN:DAYLIGHT
TZOFFSETFROM:-0800
TZOFFSETTO:-0700
TZNAME:PDT
DTSTART:20170312T100000
END:DAYLIGHT
BEGIN:STANDARD
TZOFFSETFROM:-0700
TZOFFSETTO:-0800
TZNAME:PST
DTSTART:20171105T090000
END:STANDARD
BEGIN:DAYLIGHT
TZOFFSETFROM:-0800
TZOFFSETTO:-0700
TZNAME:PDT
DTSTART:20180311T100000
END:DAYLIGHT
BEGIN:STANDARD
TZOFFSETFROM:-0700
TZOFFSETTO:-0800
TZNAME:PST
DTSTART:20181104T090000
END:STANDARD
BEGIN:DAYLIGHT
TZOFFSETFROM:-0800
TZOFFSETTO:-0700
TZNAME:PDT
DTSTART:20190310T100000
END:DAYLIGHT
BEGIN:STANDARD
TZOFFSETFROM:-0700
TZOFFSETTO:-0800
TZNAME:PST
DTSTART:20191103T090000
END:STANDARD
END:VTIMEZONE
BEGIN:VEVENT
DTSTART;TZID=America/Los_Angeles:20180215T073000
DTEND;TZID=America/Los_Angeles:20180215T154500
DTSTAMP:20260423T214303
CREATED:20180110T171320Z
LAST-MODIFIED:20180129T163228Z
UID:15929-1518679800-1518709500@www.neotechproducts.com
SUMMARY:CoCANN Conference 2018
DESCRIPTION:Come visit Neotech at this local SoCal favorite. Speakers include President Cynthia Triana\, CCRN\, Dr. Marian E. Williams\, Dr. Sylvia Del Castillo\, Kathryn Mosely\, Esq\, Dr. Cathy Shin\, and President Elect Brenda Gallardo\, BSN\, RNC-NIC. \nExhibit Hours:\n7:30 – 8:15AM\n11:45AM – 1:15PM
URL:https://www.neotechproducts.com/event/cocann-conference-2018/
LOCATION:California Endowment Center\, LA\, 1000 North Alameda Street\, Los Angeles\, CA\, 90012\, United States
END:VEVENT
END:VCALENDAR