BEGIN:VCALENDAR
VERSION:2.0
PRODID:-//Neotech Products - ECPv6.15.20//NONSGML v1.0//EN
CALSCALE:GREGORIAN
METHOD:PUBLISH
X-WR-CALNAME:Neotech Products
X-ORIGINAL-URL:https://www.neotechproducts.com
X-WR-CALDESC:Events for Neotech Products
REFRESH-INTERVAL;VALUE=DURATION:PT1H
X-Robots-Tag:noindex
X-PUBLISHED-TTL:PT1H
BEGIN:VTIMEZONE
TZID:America/Los_Angeles
BEGIN:DAYLIGHT
TZOFFSETFROM:-0800
TZOFFSETTO:-0700
TZNAME:PDT
DTSTART:20170312T100000
END:DAYLIGHT
BEGIN:STANDARD
TZOFFSETFROM:-0700
TZOFFSETTO:-0800
TZNAME:PST
DTSTART:20171105T090000
END:STANDARD
BEGIN:DAYLIGHT
TZOFFSETFROM:-0800
TZOFFSETTO:-0700
TZNAME:PDT
DTSTART:20180311T100000
END:DAYLIGHT
BEGIN:STANDARD
TZOFFSETFROM:-0700
TZOFFSETTO:-0800
TZNAME:PST
DTSTART:20181104T090000
END:STANDARD
BEGIN:DAYLIGHT
TZOFFSETFROM:-0800
TZOFFSETTO:-0700
TZNAME:PDT
DTSTART:20190310T100000
END:DAYLIGHT
BEGIN:STANDARD
TZOFFSETFROM:-0700
TZOFFSETTO:-0800
TZNAME:PST
DTSTART:20191103T090000
END:STANDARD
END:VTIMEZONE
BEGIN:VEVENT
DTSTART;TZID=America/Los_Angeles:20181017T080000
DTEND;TZID=America/Los_Angeles:20181020T170000
DTSTAMP:20260423T093159
CREATED:20180110T225729Z
LAST-MODIFIED:20180719T195706Z
UID:15963-1539763200-1540054800@www.neotechproducts.com
SUMMARY:NANN 34th Annual Conference
DESCRIPTION:NANN is turning Anaheim\, California into NANNAHEIM with its 34th Annual Conference\, October 17-20\, 2018 at the Anaheim Hilton and Convention Center. Empower your practice with the latest clinical education on hot topics\, the opportunity to connect with neonatal nursing peers from all over the world\, and the inspiration to make changes in your home unit. Attendees agree that a NANN meeting is more than a conference; it’s a must-have experience! \nCome Visit Neotech at Booth 516! \nExhibit Hours:\nThursday\, October 18\n9:45 – 10:45AM\n11:45AM – 1:45PM\n4:30 – 7:30PM \nFriday\, October 19\n10:00 – 11:00AM\n12:00 – 2:00PM \nSchedule subject to change
URL:https://www.neotechproducts.com/event/nann-34th-annual-conference/
LOCATION:Anaheim Convention Center\, 800 W Katella Avenue\, Anaheim\, CA\, 92802\, United States
END:VEVENT
END:VCALENDAR