BEGIN:VCALENDAR
VERSION:2.0
PRODID:-//Neotech Products - ECPv6.15.20//NONSGML v1.0//EN
CALSCALE:GREGORIAN
METHOD:PUBLISH
X-WR-CALNAME:Neotech Products
X-ORIGINAL-URL:https://www.neotechproducts.com
X-WR-CALDESC:Events for Neotech Products
REFRESH-INTERVAL;VALUE=DURATION:PT1H
X-Robots-Tag:noindex
X-PUBLISHED-TTL:PT1H
BEGIN:VTIMEZONE
TZID:Europe/Paris
BEGIN:DAYLIGHT
TZOFFSETFROM:+0100
TZOFFSETTO:+0200
TZNAME:CEST
DTSTART:20170326T010000
END:DAYLIGHT
BEGIN:STANDARD
TZOFFSETFROM:+0200
TZOFFSETTO:+0100
TZNAME:CET
DTSTART:20171029T010000
END:STANDARD
BEGIN:DAYLIGHT
TZOFFSETFROM:+0100
TZOFFSETTO:+0200
TZNAME:CEST
DTSTART:20180325T010000
END:DAYLIGHT
BEGIN:STANDARD
TZOFFSETFROM:+0200
TZOFFSETTO:+0100
TZNAME:CET
DTSTART:20181028T010000
END:STANDARD
BEGIN:DAYLIGHT
TZOFFSETFROM:+0100
TZOFFSETTO:+0200
TZNAME:CEST
DTSTART:20190331T010000
END:DAYLIGHT
BEGIN:STANDARD
TZOFFSETFROM:+0200
TZOFFSETTO:+0100
TZNAME:CET
DTSTART:20191027T010000
END:STANDARD
END:VTIMEZONE
BEGIN:VEVENT
DTSTART;TZID=Europe/Paris:20181030T183000
DTEND;TZID=Europe/Paris:20181102T180000
DTSTAMP:20260423T061308
CREATED:20181025T143046Z
LAST-MODIFIED:20181025T143046Z
UID:19192-1540924200-1541181600@www.neotechproducts.com
SUMMARY:EAPS 2018
DESCRIPTION:Serving as a nexus for the wealth of knowledge provided by three leading paediatric societies\, the 7th Congress of the European Academy of Paediatric Societies (EAPS 2018) promises to build on the reputation of previous highly successful meetings. Paediatric professionals from around the world will gain unparalleled access to the best scientific research programmes. \nFirmly established yet dedicated to thinking outside the box\, EAPS 2018 aims to engage the world’s best in a hearty exchange of experiences and expertise in research and clinical care. Europe’s foremost paediatrics subspecialty societies EAP\, ESPNIC and ESPR have dedicated their time and formidable talents into organizing a stellar educational/research forum that will celebrate outstanding science in all areas of paediatrics.​​ \nExhibit Hours:\nTuesday\, 10/30: 6:30 – 8:30PM\nWednesday\, 10/31: 9:30AM – 5:30PM\nThursday\, 11/1: 9:30AM – 5:30PM\nFriday\, 11/2: 9:30AM – 6:00PM
URL:https://www.neotechproducts.com/event/eaps-2018/
LOCATION:Palais des congrès de Paris\, 2 Place de la Porte Maillot\, Paris\, 75017\, France
END:VEVENT
END:VCALENDAR