BEGIN:VCALENDAR
VERSION:2.0
PRODID:-//Neotech Products - ECPv6.15.20//NONSGML v1.0//EN
CALSCALE:GREGORIAN
METHOD:PUBLISH
X-ORIGINAL-URL:https://www.neotechproducts.com
X-WR-CALDESC:Events for Neotech Products
REFRESH-INTERVAL;VALUE=DURATION:PT1H
X-Robots-Tag:noindex
X-PUBLISHED-TTL:PT1H
BEGIN:VTIMEZONE
TZID:America/Los_Angeles
BEGIN:DAYLIGHT
TZOFFSETFROM:-0800
TZOFFSETTO:-0700
TZNAME:PDT
DTSTART:20170312T100000
END:DAYLIGHT
BEGIN:STANDARD
TZOFFSETFROM:-0700
TZOFFSETTO:-0800
TZNAME:PST
DTSTART:20171105T090000
END:STANDARD
BEGIN:DAYLIGHT
TZOFFSETFROM:-0800
TZOFFSETTO:-0700
TZNAME:PDT
DTSTART:20180311T100000
END:DAYLIGHT
BEGIN:STANDARD
TZOFFSETFROM:-0700
TZOFFSETTO:-0800
TZNAME:PST
DTSTART:20181104T090000
END:STANDARD
BEGIN:DAYLIGHT
TZOFFSETFROM:-0800
TZOFFSETTO:-0700
TZNAME:PDT
DTSTART:20190310T100000
END:DAYLIGHT
BEGIN:STANDARD
TZOFFSETFROM:-0700
TZOFFSETTO:-0800
TZNAME:PST
DTSTART:20191103T090000
END:STANDARD
END:VTIMEZONE
BEGIN:VEVENT
DTSTART;TZID=America/Los_Angeles:20181105T080000
DTEND;TZID=America/Los_Angeles:20181105T170000
DTSTAMP:20260423T061321
CREATED:20180803T143730Z
LAST-MODIFIED:20180803T153723Z
UID:18345-1541404800-1541437200@www.neotechproducts.com
SUMMARY:SCANN 2018
DESCRIPTION:The SCANN (Southern California Association of Neonatal Nurses) organization will be hosting its 24th annual\, “Changing Tides in Neonatal Care” one-day conference on Monday November 5th\, 2018. We are very excited to be exhibiting this at a new location in sunny San Diego. We anticipate a successful event at The Sheraton Hotel and Marina – 1380 Harbor Island Dr\, San Diego\, CA 92101 and invite visit our booth. \nThe quality of the presenters and waterfront location make this the most desirable local conference for many neonatal nurses and other health care professionals in San Diego and surrounding counties. SCANN continues to strive to reach more NICU nurses beyond its Southern California boundaries. Conference attendees will have designated time to visit the vendor hall during the pre-conference continental breakfast\, lunch and breaks. Conference attendees are encouraged to visit each vendor table\, and are provided a vendor check-off card by SCANN\, which once completed can be entered into raffle for the chance to win prizes.
URL:https://www.neotechproducts.com/event/scann/
LOCATION:Sheraton Hotel & Marina\, 1380 Harbor Island Drive\, San Diego\, CA\, 92101\, United States
END:VEVENT
END:VCALENDAR