BEGIN:VCALENDAR
VERSION:2.0
PRODID:-//Neotech Products - ECPv6.15.20//NONSGML v1.0//EN
CALSCALE:GREGORIAN
METHOD:PUBLISH
X-WR-CALNAME:Neotech Products
X-ORIGINAL-URL:https://www.neotechproducts.com
X-WR-CALDESC:Events for Neotech Products
REFRESH-INTERVAL;VALUE=DURATION:PT1H
X-Robots-Tag:noindex
X-PUBLISHED-TTL:PT1H
BEGIN:VTIMEZONE
TZID:America/Los_Angeles
BEGIN:DAYLIGHT
TZOFFSETFROM:-0800
TZOFFSETTO:-0700
TZNAME:PDT
DTSTART:20180311T100000
END:DAYLIGHT
BEGIN:STANDARD
TZOFFSETFROM:-0700
TZOFFSETTO:-0800
TZNAME:PST
DTSTART:20181104T090000
END:STANDARD
BEGIN:DAYLIGHT
TZOFFSETFROM:-0800
TZOFFSETTO:-0700
TZNAME:PDT
DTSTART:20190310T100000
END:DAYLIGHT
BEGIN:STANDARD
TZOFFSETFROM:-0700
TZOFFSETTO:-0800
TZNAME:PST
DTSTART:20191103T090000
END:STANDARD
BEGIN:DAYLIGHT
TZOFFSETFROM:-0800
TZOFFSETTO:-0700
TZNAME:PDT
DTSTART:20200308T100000
END:DAYLIGHT
BEGIN:STANDARD
TZOFFSETFROM:-0700
TZOFFSETTO:-0800
TZNAME:PST
DTSTART:20201101T090000
END:STANDARD
END:VTIMEZONE
BEGIN:VEVENT
DTSTART;TZID=America/Los_Angeles:20190529T080000
DTEND;TZID=America/Los_Angeles:20190601T170000
DTSTAMP:20260422T183630
CREATED:20181221T171430Z
LAST-MODIFIED:20190424T220652Z
UID:19718-1559116800-1559408400@www.neotechproducts.com
SUMMARY:Spring National Advanced Practice Neonatal Nurses Conference
DESCRIPTION:Come see us at Advanced Practice in Indian Wells\, California. ANN has chosen a beautiful desert destination for this conference so you can Learn\, Network\, and Explore while earning your CNE contact hours and relaxing poolside at the end of the day. Palm Springs in May offers great weather and stunning mountain views. \nWith nine cities in one beautiful oasis\, Greater Palm Springs is rich in visitor experiences\, from outdoor adventure\, shopping\, and lounging to world-class events like music\, arts festivals\, and modernism architecture tours. Whether you spend a late afternoon by the pool\, play a round of golf\, or soak in healing mineral water\, this southern California destination knows how to chill. Learn\, Network\, and Explore with your colleagues at this outstanding conference. \nCome visit Neotech at Booth 302! \nExhibit Hours:\nThursday\, 5/30: 10:00 – 11:15AM\, 12:15 – 1:30PM\, 2:30 – 3:30PM\nFriday\, 5/31: 7:00 – 8:00AM\, 10:00 – 11:15AM
URL:https://www.neotechproducts.com/event/spring-national-advanced-practice-neonatal-nurses-conference/
LOCATION:Hyatt Regency Indian Wells Resort & Spa\, 44600 Indian Wells Lane\, Indian Wells\, CA\, 92210\, United States
END:VEVENT
END:VCALENDAR