BEGIN:VCALENDAR
VERSION:2.0
PRODID:-//Neotech Products - ECPv6.15.20//NONSGML v1.0//EN
CALSCALE:GREGORIAN
METHOD:PUBLISH
X-ORIGINAL-URL:https://www.neotechproducts.com
X-WR-CALDESC:Events for Neotech Products
REFRESH-INTERVAL;VALUE=DURATION:PT1H
X-Robots-Tag:noindex
X-PUBLISHED-TTL:PT1H
BEGIN:VTIMEZONE
TZID:America/Los_Angeles
BEGIN:DAYLIGHT
TZOFFSETFROM:-0800
TZOFFSETTO:-0700
TZNAME:PDT
DTSTART:20180311T100000
END:DAYLIGHT
BEGIN:STANDARD
TZOFFSETFROM:-0700
TZOFFSETTO:-0800
TZNAME:PST
DTSTART:20181104T090000
END:STANDARD
BEGIN:DAYLIGHT
TZOFFSETFROM:-0800
TZOFFSETTO:-0700
TZNAME:PDT
DTSTART:20190310T100000
END:DAYLIGHT
BEGIN:STANDARD
TZOFFSETFROM:-0700
TZOFFSETTO:-0800
TZNAME:PST
DTSTART:20191103T090000
END:STANDARD
BEGIN:DAYLIGHT
TZOFFSETFROM:-0800
TZOFFSETTO:-0700
TZNAME:PDT
DTSTART:20200308T100000
END:DAYLIGHT
BEGIN:STANDARD
TZOFFSETFROM:-0700
TZOFFSETTO:-0800
TZNAME:PST
DTSTART:20201101T090000
END:STANDARD
END:VTIMEZONE
BEGIN:VEVENT
DTSTART;TZID=America/Los_Angeles:20191003T173000
DTEND;TZID=America/Los_Angeles:20191003T193000
DTSTAMP:20260422T115251
CREATED:20190530T220226Z
LAST-MODIFIED:20190924T152116Z
UID:21751-1570123800-1570131000@www.neotechproducts.com
SUMMARY:AVA 2019 Annual Scientific Meeting
DESCRIPTION:Neotech will be attending this year’s Pediatric Networking reception at the AVA Conference. This event is designed exclusively for AVA 2019 attendees interested in pediatric vascular access and PediSIG members.
URL:https://www.neotechproducts.com/event/ava-2019-annual-scientific-meeting/
LOCATION:Caesars Palace Las Vegas\, 3570 S Las Vegas Blvd\, Las Vegas\, NV\, 89109\, United States
END:VEVENT
END:VCALENDAR