BEGIN:VCALENDAR
VERSION:2.0
PRODID:-//Neotech Products - ECPv6.15.20//NONSGML v1.0//EN
CALSCALE:GREGORIAN
METHOD:PUBLISH
X-WR-CALNAME:Neotech Products
X-ORIGINAL-URL:https://www.neotechproducts.com
X-WR-CALDESC:Events for Neotech Products
REFRESH-INTERVAL;VALUE=DURATION:PT1H
X-Robots-Tag:noindex
X-PUBLISHED-TTL:PT1H
BEGIN:VTIMEZONE
TZID:America/Los_Angeles
BEGIN:DAYLIGHT
TZOFFSETFROM:-0800
TZOFFSETTO:-0700
TZNAME:PDT
DTSTART:20180311T100000
END:DAYLIGHT
BEGIN:STANDARD
TZOFFSETFROM:-0700
TZOFFSETTO:-0800
TZNAME:PST
DTSTART:20181104T090000
END:STANDARD
BEGIN:DAYLIGHT
TZOFFSETFROM:-0800
TZOFFSETTO:-0700
TZNAME:PDT
DTSTART:20190310T100000
END:DAYLIGHT
BEGIN:STANDARD
TZOFFSETFROM:-0700
TZOFFSETTO:-0800
TZNAME:PST
DTSTART:20191103T090000
END:STANDARD
BEGIN:DAYLIGHT
TZOFFSETFROM:-0800
TZOFFSETTO:-0700
TZNAME:PDT
DTSTART:20200308T100000
END:DAYLIGHT
BEGIN:STANDARD
TZOFFSETFROM:-0700
TZOFFSETTO:-0800
TZNAME:PST
DTSTART:20201101T090000
END:STANDARD
END:VTIMEZONE
BEGIN:VEVENT
DTSTART;TZID=America/Los_Angeles:20191009T080000
DTEND;TZID=America/Los_Angeles:20191011T170000
DTSTAMP:20260422T115222
CREATED:20190530T220823Z
LAST-MODIFIED:20190923T194820Z
UID:21755-1570608000-1570813200@www.neotechproducts.com
SUMMARY:35th Annual NANN Conference
DESCRIPTION:Mark your calendars for NANN’s 35th Annual Conference\, October 9-12\, 2019 in Savannah\, Georgia! Empower your practice with the latest clinical education on hot topics\, the opportunity to connect with neonatal nursing peers from all over the world\, and the inspiration to make changes in your home unit. What’s more\, you deserve a break from the everyday stress in the NICU with a trip to Savannah. Attendees agree that a NANN meeting is more than a conference; it’s a must-have experience! \nCome visit Neotech at Booth 208!  \nWednesday\, October 9th 2019:  \n4:30pm-6:30pm \nThursday\, October 10th 2019:  \n11am-3:30pm \nFriday\, October 11th 2019:  \n10am-2pm
URL:https://www.neotechproducts.com/event/35th-annual-nann-conference/
LOCATION:Savannah International Trade & Convention Center\, 1 International Drive\, Savannah\, GA\, 31421\, United States
END:VEVENT
END:VCALENDAR