BEGIN:VCALENDAR
VERSION:2.0
PRODID:-//Neotech Products - ECPv6.15.20//NONSGML v1.0//EN
CALSCALE:GREGORIAN
METHOD:PUBLISH
X-ORIGINAL-URL:https://www.neotechproducts.com
X-WR-CALDESC:Events for Neotech Products
REFRESH-INTERVAL;VALUE=DURATION:PT1H
X-Robots-Tag:noindex
X-PUBLISHED-TTL:PT1H
BEGIN:VTIMEZONE
TZID:America/Los_Angeles
BEGIN:DAYLIGHT
TZOFFSETFROM:-0800
TZOFFSETTO:-0700
TZNAME:PDT
DTSTART:20180311T100000
END:DAYLIGHT
BEGIN:STANDARD
TZOFFSETFROM:-0700
TZOFFSETTO:-0800
TZNAME:PST
DTSTART:20181104T090000
END:STANDARD
BEGIN:DAYLIGHT
TZOFFSETFROM:-0800
TZOFFSETTO:-0700
TZNAME:PDT
DTSTART:20190310T100000
END:DAYLIGHT
BEGIN:STANDARD
TZOFFSETFROM:-0700
TZOFFSETTO:-0800
TZNAME:PST
DTSTART:20191103T090000
END:STANDARD
BEGIN:DAYLIGHT
TZOFFSETFROM:-0800
TZOFFSETTO:-0700
TZNAME:PDT
DTSTART:20200308T100000
END:DAYLIGHT
BEGIN:STANDARD
TZOFFSETFROM:-0700
TZOFFSETTO:-0800
TZNAME:PST
DTSTART:20201101T090000
END:STANDARD
END:VTIMEZONE
BEGIN:VEVENT
DTSTART;TZID=America/Los_Angeles:20191109T080000
DTEND;TZID=America/Los_Angeles:20191112T170000
DTSTAMP:20260422T101400
CREATED:20190530T221043Z
LAST-MODIFIED:20190923T195126Z
UID:21757-1573286400-1573578000@www.neotechproducts.com
SUMMARY:AARC Congress 2019
DESCRIPTION:This year’s AARC Congress will take place in New Orleans\, Louisiana November. 9–12 (Sat.–Tues.)\, and there’s plenty to be excited about. It’s a spectacular networking and educational event for respiratory therapists from around the world\, offering cutting-edge lectures by the top leaders in the industry. Congress will equip you with the valuable resources you need to push forward in your career. \nCome visit Neotech at Booth 927! \nSaturday\, November 9th \n10:30am-4pm \nSunday\, November 10th \n9:30am-3pm \nMonday\, November 11th \n9:30am-2pm
URL:https://www.neotechproducts.com/event/aarc-congress-2019/
LOCATION:New Orleans Ernest N. Morial Convention Center\, 900 Convention Center Blvd\, New Orleans \, LA\, 70130\, United States
END:VEVENT
END:VCALENDAR