BEGIN:VCALENDAR
VERSION:2.0
PRODID:-//Neotech Products - ECPv6.15.20//NONSGML v1.0//EN
CALSCALE:GREGORIAN
METHOD:PUBLISH
X-WR-CALNAME:Neotech Products
X-ORIGINAL-URL:https://www.neotechproducts.com
X-WR-CALDESC:Events for Neotech Products
REFRESH-INTERVAL;VALUE=DURATION:PT1H
X-Robots-Tag:noindex
X-PUBLISHED-TTL:PT1H
BEGIN:VTIMEZONE
TZID:America/Los_Angeles
BEGIN:DAYLIGHT
TZOFFSETFROM:-0800
TZOFFSETTO:-0700
TZNAME:PDT
DTSTART:20190310T100000
END:DAYLIGHT
BEGIN:STANDARD
TZOFFSETFROM:-0700
TZOFFSETTO:-0800
TZNAME:PST
DTSTART:20191103T090000
END:STANDARD
BEGIN:DAYLIGHT
TZOFFSETFROM:-0800
TZOFFSETTO:-0700
TZNAME:PDT
DTSTART:20200308T100000
END:DAYLIGHT
BEGIN:STANDARD
TZOFFSETFROM:-0700
TZOFFSETTO:-0800
TZNAME:PST
DTSTART:20201101T090000
END:STANDARD
BEGIN:DAYLIGHT
TZOFFSETFROM:-0800
TZOFFSETTO:-0700
TZNAME:PDT
DTSTART:20210314T100000
END:DAYLIGHT
BEGIN:STANDARD
TZOFFSETFROM:-0700
TZOFFSETTO:-0800
TZNAME:PST
DTSTART:20211107T090000
END:STANDARD
END:VTIMEZONE
BEGIN:VEVENT
DTSTART;TZID=America/Los_Angeles:20200613T080000
DTEND;TZID=America/Los_Angeles:20200617T170000
DTSTAMP:20260422T004720
CREATED:20200225T183439Z
LAST-MODIFIED:20200423T221536Z
UID:24862-1592035200-1592413200@www.neotechproducts.com
SUMMARY:AWHONN Annual Convention - POSTPONED
DESCRIPTION:This conference has been postponed due to the COVID-19 pandemic. Please check back soon for updated information. Thank You! \nAWHONN Convention is a great way to connect with fellow nurses\, network with other professionals\, and stay up to date on the latest research and practices. At Convention\, you can reconnect with colleagues to catch up on the latest developments in the women’s health\, obstetrics\, or neonatal fields. Join some of the various workshops or educational sessions lead by your peers to discover the latest evidence-based practices\, new resources\, or innovative products.
URL:https://www.neotechproducts.com/event/awhonn-annual-convention/
LOCATION:Phoenix Convention Center\, 33 S. Third Street\, Phoenix\, AZ\, 85004\, United States
END:VEVENT
END:VCALENDAR