BEGIN:VCALENDAR
VERSION:2.0
PRODID:-//Neotech Products - ECPv6.15.20//NONSGML v1.0//EN
CALSCALE:GREGORIAN
METHOD:PUBLISH
X-ORIGINAL-URL:https://www.neotechproducts.com
X-WR-CALDESC:Events for Neotech Products
REFRESH-INTERVAL;VALUE=DURATION:PT1H
X-Robots-Tag:noindex
X-PUBLISHED-TTL:PT1H
BEGIN:VTIMEZONE
TZID:America/Los_Angeles
BEGIN:DAYLIGHT
TZOFFSETFROM:-0800
TZOFFSETTO:-0700
TZNAME:PDT
DTSTART:20200308T100000
END:DAYLIGHT
BEGIN:STANDARD
TZOFFSETFROM:-0700
TZOFFSETTO:-0800
TZNAME:PST
DTSTART:20201101T090000
END:STANDARD
BEGIN:DAYLIGHT
TZOFFSETFROM:-0800
TZOFFSETTO:-0700
TZNAME:PDT
DTSTART:20210314T100000
END:DAYLIGHT
BEGIN:STANDARD
TZOFFSETFROM:-0700
TZOFFSETTO:-0800
TZNAME:PST
DTSTART:20211107T090000
END:STANDARD
BEGIN:DAYLIGHT
TZOFFSETFROM:-0800
TZOFFSETTO:-0700
TZNAME:PDT
DTSTART:20220313T100000
END:DAYLIGHT
BEGIN:STANDARD
TZOFFSETFROM:-0700
TZOFFSETTO:-0800
TZNAME:PST
DTSTART:20221106T090000
END:STANDARD
END:VTIMEZONE
BEGIN:VEVENT
DTSTART;TZID=America/Los_Angeles:20210414T080000
DTEND;TZID=America/Los_Angeles:20210417T170000
DTSTAMP:20260421T025944
CREATED:20210319T155859Z
LAST-MODIFIED:20210319T155859Z
UID:28992-1618387200-1618678800@www.neotechproducts.com
SUMMARY:Spring Virtual National Advanced Practice & Low Risk Neonatal Nurses Conference
DESCRIPTION:Neotech is excited to exhibit at this years Spring Virtual National Advanced Practice & Low Risk Neonatal Nurses Conference! \nThe Academy of Neonatal Nursing (ANN) is thrilled to announce a new conference this Spring – The National Low Risk Neonatal Nurses Conference. This exclusive program is tailored for Low Risk Neonatal Nurses working in a Mother Baby Unit or a Level I\, II or III nursery; this conference is perfect for nurses new to the NICU! This conference runs concurrent with ANN’s Spring Advanced Practice Neonatal Nurses Conference
URL:https://www.neotechproducts.com/event/spring-virtual-national-advanced-practice-low-risk-neonatal-nurses-conference/
END:VEVENT
END:VCALENDAR