BEGIN:VCALENDAR
VERSION:2.0
PRODID:-//Neotech Products - ECPv6.15.20//NONSGML v1.0//EN
CALSCALE:GREGORIAN
METHOD:PUBLISH
X-ORIGINAL-URL:https://www.neotechproducts.com
X-WR-CALDESC:Events for Neotech Products
REFRESH-INTERVAL;VALUE=DURATION:PT1H
X-Robots-Tag:noindex
X-PUBLISHED-TTL:PT1H
BEGIN:VTIMEZONE
TZID:UTC
BEGIN:STANDARD
TZOFFSETFROM:+0000
TZOFFSETTO:+0000
TZNAME:UTC
DTSTART:20140101T000000
END:STANDARD
END:VTIMEZONE
BEGIN:VEVENT
DTSTART;TZID=UTC:20151014T080000
DTEND;TZID=UTC:20151017T123000
DTSTAMP:20260425T200446
CREATED:20150922T053027Z
LAST-MODIFIED:20150922T053027Z
UID:8865-1444809600-1445085000@www.neotechproducts.com
SUMMARY:The Fetus & Newborn Conference
DESCRIPTION:The 31st annual The Fetus & Newborn: Improving Outcomes in Perinatal and Neonatal Care conference is returning to San Diego\, the city where the conference was first held!  Blend this outstanding educational event with the chance to relax\, recharge and unwind in the beautiful surroundings of the San Diego area!
URL:https://www.neotechproducts.com/event/the-fetus-newborn-conference/
LOCATION:Hilton San Diego Bayfront\, One Park Drive\, San Diego\, CA\, 92101\, United States
END:VEVENT
BEGIN:VEVENT
DTSTART;TZID=UTC:20151022T173000
DTEND;TZID=UTC:20151024T143000
DTSTAMP:20260425T200446
CREATED:20150922T233122Z
LAST-MODIFIED:20150922T233122Z
UID:8873-1445535000-1445697000@www.neotechproducts.com
SUMMARY:NANN
DESCRIPTION:This is the must-attend meeting for neonatal nurses and neonatal nurse practitioners. No matter where you are in your career\, you will learn from esteemed leaders in the neonatal nursing. \nExhibit Hours \nThursday\, October 22\n5:30 pm – 7:30 pm \nFriday\, October 23\n9:30 am – 2:00 pm \nSaturday\, October 24\n9:00 am – 2:30 pm \n*Hours subject to change.
URL:https://www.neotechproducts.com/event/nann/
LOCATION:Hilton Anatole\, 2201 N. Stemmons Fwy\, Dallas\, TX\, 75207\, United States
END:VEVENT
BEGIN:VEVENT
DTSTART;TZID=UTC:20151029T080000
DTEND;TZID=UTC:20151030T143000
DTSTAMP:20260425T200446
CREATED:20150922T234318Z
LAST-MODIFIED:20150922T234318Z
UID:8876-1446105600-1446215400@www.neotechproducts.com
SUMMARY:NAHC
DESCRIPTION:Join more than 2\,500 of your colleagues at the 2015 NAHC Annual Meeting at the Opryland Hotel in Nashville\, Tennessee\, October 28-30. We’re planning 2+ days packed with 90 education sessions\, keynote addresses\, the largest home care and hospice marketplace in the world\, and many other networking opportunities. \nExhibit Hours \nThursday\, October 29\n8:00 am – 9:00 am\n12:30 pm – 2:30 pm\n6:00 pm – 8:30 pm \nFriday\, October 30\n8:00 am – 9:00 am\n12:30 pm – 2:30 pm
URL:https://www.neotechproducts.com/event/nahc/
LOCATION:Gaylord Opryland Resort and Convention Center\, 2800 Opryland Dr.\, Nashville\, TN\, 37214\, United States
END:VEVENT
END:VCALENDAR