BEGIN:VCALENDAR
VERSION:2.0
PRODID:-//Neotech Products - ECPv6.15.20//NONSGML v1.0//EN
CALSCALE:GREGORIAN
METHOD:PUBLISH
X-WR-CALNAME:Neotech Products
X-ORIGINAL-URL:https://www.neotechproducts.com
X-WR-CALDESC:Events for Neotech Products
REFRESH-INTERVAL;VALUE=DURATION:PT1H
X-Robots-Tag:noindex
X-PUBLISHED-TTL:PT1H
BEGIN:VTIMEZONE
TZID:UTC
BEGIN:STANDARD
TZOFFSETFROM:+0000
TZOFFSETTO:+0000
TZNAME:UTC
DTSTART:20140101T000000
END:STANDARD
END:VTIMEZONE
BEGIN:VEVENT
DTSTART;TZID=UTC:20151107T110000
DTEND;TZID=UTC:20151109T140000
DTSTAMP:20260425T182624
CREATED:20150922T235805Z
LAST-MODIFIED:20150922T235805Z
UID:8879-1446894000-1447077600@www.neotechproducts.com
SUMMARY:AARC Congress
DESCRIPTION:If you have never attended the AARC Congress\, 2015 will be a great year to attend and give your career that added boost. This year’s AARC Congress is located at the Tampa Bay Convention Center—sitting directly on the pristine waters of the bay. Here you can meet your state continuing education requirements\, network\, make connections and gain expertise in the areas of your interest. The AARC Convention attracts the best in respiratory care by offering over 250 continuing education sessions\, 150 speakers\, 300 research topics\, 200 exhibitors and exciting events that provide a variety of networking opportunities. \nExhibit Hours \nSaturday\, November 7\n11:00 am – 4:00 pm \nSunday\, November 8\n9:30 am – 3:00 pm \nMonday\, November 9\n9:30 am – 2:00 pm
URL:https://www.neotechproducts.com/event/aarc-congress/
LOCATION:Tampa Convention Center\, 333 South Franklin Street\, Tampa\, FL\, 33602\, United States
END:VEVENT
BEGIN:VEVENT
DTSTART;TZID=UTC:20151116T080000
DTEND;TZID=UTC:20151119T170000
DTSTAMP:20260425T182624
CREATED:20150923T002647Z
LAST-MODIFIED:20150923T002647Z
UID:8883-1447660800-1447952400@www.neotechproducts.com
SUMMARY:Medica
DESCRIPTION:The MEDICA EDUCATION CONFERENCE takes place from November 16-19\, 2015 in Düsseldorf\, Germany – again at the same time as the MEDICA trade fair – and offers unique interdisciplinary insights into medical topics. This will move medical technology and engineering into an even stronger focus. Each one of the four conference days takes its own theme. This structure makes targeted participation in the conference easier for visitors.
URL:https://www.neotechproducts.com/event/medica/
LOCATION:Unnamed Venue\, Düsseldorf\, Germany
END:VEVENT
END:VCALENDAR