BEGIN:VCALENDAR
VERSION:2.0
PRODID:-//Neotech Products - ECPv6.15.20//NONSGML v1.0//EN
CALSCALE:GREGORIAN
METHOD:PUBLISH
X-ORIGINAL-URL:https://www.neotechproducts.com
X-WR-CALDESC:Events for Neotech Products
REFRESH-INTERVAL;VALUE=DURATION:PT1H
X-Robots-Tag:noindex
X-PUBLISHED-TTL:PT1H
BEGIN:VTIMEZONE
TZID:UTC
BEGIN:STANDARD
TZOFFSETFROM:+0000
TZOFFSETTO:+0000
TZNAME:UTC
DTSTART:20150101T000000
END:STANDARD
END:VTIMEZONE
BEGIN:VEVENT
DTSTART;VALUE=DATE:20160208
DTEND;VALUE=DATE:20160209
DTSTAMP:20260425T134928
CREATED:20160123T013151Z
LAST-MODIFIED:20160123T013151Z
UID:9543-1454889600-1454975999@www.neotechproducts.com
SUMMARY:CoCANN Conference
DESCRIPTION:The Coastal California Association of Neonatal Nurses (CoCANN) chapter represents nurses from Los Angeles\, Ventura\, and Orange counties. The nurses who attend are responsible for the care of one of the most fragile populations in all of healthcare. To provide the best possible care for their patients they must be equipped with cutting edge clinical knowledge and technology\, which is the main goal for success at this conference.
URL:https://www.neotechproducts.com/event/cocann-conference-2/
LOCATION:California Endowment Center\, LA\, 1000 North Alameda Street\, Los Angeles\, CA\, 90012\, United States
END:VEVENT
BEGIN:VEVENT
DTSTART;TZID=UTC:20160225T070000
DTEND;TZID=UTC:20160227T123000
DTSTAMP:20260425T134928
CREATED:20160123T015745Z
LAST-MODIFIED:20160123T015745Z
UID:9546-1456383600-1456576200@www.neotechproducts.com
SUMMARY:NeoConference
DESCRIPTION:The NeoConference is an exhibit that hosts more than 1\,000 Neonatology-Focused clinicians\, primarily focused on neonatal medicine and research. \nExhibition Hours: \nFebruary 25th\, 2016    7:00am-4:30pm \nFebruary 26th\, 2016    7:00am-4:15pm \nFebruary 27th\, 2016    7:00am-12:30pm \nCome and see us at Booth #117!
URL:https://www.neotechproducts.com/event/neoconference/
LOCATION:Hilton Bonnet Creek\, Orlando \, FL\, United States
END:VEVENT
END:VCALENDAR