BEGIN:VCALENDAR
VERSION:2.0
PRODID:-//Neotech Products - ECPv6.15.20//NONSGML v1.0//EN
CALSCALE:GREGORIAN
METHOD:PUBLISH
X-WR-CALNAME:Neotech Products
X-ORIGINAL-URL:https://www.neotechproducts.com
X-WR-CALDESC:Events for Neotech Products
REFRESH-INTERVAL;VALUE=DURATION:PT1H
X-Robots-Tag:noindex
X-PUBLISHED-TTL:PT1H
BEGIN:VTIMEZONE
TZID:UTC
BEGIN:STANDARD
TZOFFSETFROM:+0000
TZOFFSETTO:+0000
TZNAME:UTC
DTSTART:20150101T000000
END:STANDARD
END:VTIMEZONE
BEGIN:VEVENT
DTSTART;TZID=UTC:20160317T070000
DTEND;TZID=UTC:20160318T142000
DTSTAMP:20260425T120939
CREATED:20160123T020517Z
LAST-MODIFIED:20160123T020517Z
UID:9550-1458198000-1458310800@www.neotechproducts.com
SUMMARY:March of Dimes
DESCRIPTION:The March of Dimes Conference will highlight advances and trends in obstetric and neonatal health care with an emphasis on team-building and the use  of evidence to encourage best practice in the delivery of quality care. Our fourth annual Poster Session will highlight innovative programs in perinatal and neonatal care. \nExhibition Hours: \nMarch 17th\, 2016      7:00am-2:50pm \nMarch 18th\, 2016     7:00am-2:20pm
URL:https://www.neotechproducts.com/event/march-of-dimes/
LOCATION:Hilton Orange County-Costa Mesa\, 3050 BRISTOL ST\, Costa Mesa\, CA\, 92626\, United States
END:VEVENT
END:VCALENDAR