BEGIN:VCALENDAR
VERSION:2.0
PRODID:-//Neotech Products - ECPv6.15.20//NONSGML v1.0//EN
CALSCALE:GREGORIAN
METHOD:PUBLISH
X-ORIGINAL-URL:https://www.neotechproducts.com
X-WR-CALDESC:Events for Neotech Products
REFRESH-INTERVAL;VALUE=DURATION:PT1H
X-Robots-Tag:noindex
X-PUBLISHED-TTL:PT1H
BEGIN:VTIMEZONE
TZID:UTC
BEGIN:STANDARD
TZOFFSETFROM:+0000
TZOFFSETTO:+0000
TZNAME:UTC
DTSTART:20150101T000000
END:STANDARD
END:VTIMEZONE
BEGIN:VEVENT
DTSTART;TZID=UTC:20160403T160000
DTEND;TZID=UTC:20160405T140000
DTSTAMP:20260425T103516
CREATED:20160411T220838Z
LAST-MODIFIED:20170804T043624Z
UID:10439-1459699200-1459864800@www.neotechproducts.com
SUMMARY:AORN Conference
DESCRIPTION:The AORN conference is the largest gathering of PeriOperative Nurses in the World\, and will be held in Anaheim\, California. There will be 100+ educational sessions\, over 200+ exhibitors! Come see us at our booth! \nApril 3rd\, 2016- April 5th\, 2016 \nExhibitor Hours: \nSunday  4:00pm-8:00pm \nMonday  9:00am-5:00pm \nTuesday  9:00am-2:00pm \nBooth #352
URL:https://www.neotechproducts.com/event/aorn-conference/
LOCATION:Anaheim Convention Center\, 800 W Katella Avenue\, Anaheim\, CA\, 92802\, United States
END:VEVENT
BEGIN:VEVENT
DTSTART;TZID=UTC:20160403T163000
DTEND;TZID=UTC:20160405T140000
DTSTAMP:20260425T103516
CREATED:20160123T021155Z
LAST-MODIFIED:20160123T021155Z
UID:9552-1459701000-1459864800@www.neotechproducts.com
SUMMARY:AORN
DESCRIPTION:At the AORN Surgical Conference & Expo 2016\, you will meet perioperative professionals experiencing the same issues as your facility\, and get ideas for solutions you may not have considered. \nExhibition Hours: \nApril 3rd\, 2016      4:30pm-7:00pm \nApril 4th\, 2016      9:00am-4:00pm \nApril 5th\, 2016      9:00am-2:00pm \nCome and see us at Booth #352!
URL:https://www.neotechproducts.com/event/aorn/
LOCATION:Anaheim Convention Center\, 800 W Katella Avenue\, Anaheim\, CA\, 92802\, United States
END:VEVENT
BEGIN:VEVENT
DTSTART;TZID=UTC:20160407T063000
DTEND;TZID=UTC:20160409T110000
DTSTAMP:20260425T103516
CREATED:20160123T022247Z
LAST-MODIFIED:20170804T043558Z
UID:9557-1460010600-1460199600@www.neotechproducts.com
SUMMARY:AAPOS
DESCRIPTION:The AAPOS conference goals are to advance the quality of children’s eye care\, support the training of ophthalmologists\, support research activities in pediatric ophthalmology\, and advance the care for adults with strabismus. \nExhibition Hours: \nApril 7th\, 2016    6:30am-6:00pm \nApril 8th\, 2016    6:30am-1:15pm \nApril 9th\, 2016    6:30am-11:00am \n 
URL:https://www.neotechproducts.com/event/aapos/
LOCATION:Vancouver\, BC Convention Center\, 1055 Canada Pl\, Vancouver\, British Columbia\, V6C 0C3\, Canada
END:VEVENT
BEGIN:VEVENT
DTSTART;TZID=UTC:20160414T063000
DTEND;TZID=UTC:20160414T170000
DTSTAMP:20260425T103516
CREATED:20160125T231939Z
LAST-MODIFIED:20160125T231939Z
UID:9577-1460615400-1460653200@www.neotechproducts.com
SUMMARY:Children's Hospital Los Angeles Neonatal Conference
DESCRIPTION:CHLA’s 10th annual Neonatal Conference presented by the Newborn & Infant Critical Care Unit. \nExhibits starting at 6:30am!
URL:https://www.neotechproducts.com/event/childrens-hospital-los-angeles-neonatal-conference/
LOCATION:CHLA Hospital Taglyan Cultural Complex\, 1201 North Vine St.\, Hollywood\, CA\, 90038\, United States
END:VEVENT
BEGIN:VEVENT
DTSTART;TZID=UTC:20160421T080000
DTEND;TZID=UTC:20160424T120000
DTSTAMP:20260425T103516
CREATED:20160126T024919Z
LAST-MODIFIED:20160126T024919Z
UID:9582-1461225600-1461499200@www.neotechproducts.com
SUMMARY:Society of Pediatric Nurses Annual Conference
DESCRIPTION:The SPN Annual Conference is uniquely designed for pediatric nurses and professionals with an interest in pediatric healthcare who want to stay abreast of the latest advances in the care of children from infancy through adolescence.  The conference provides insight into the latest evidence in pediatric care and its application in the practice setting.  Participates leave with a renewed sense of enthusiasm for practice as a result of networking and sharing the successes of others in pediatric care across the nation.
URL:https://www.neotechproducts.com/event/society-of-pediatric-nurses-annual-conference/
LOCATION:Hilton- Minneapolis\, 1001 Marquette Avenue South\, Minneapolis\, MN\, 55403\, United States
END:VEVENT
BEGIN:VEVENT
DTSTART;TZID=UTC:20160422T143000
DTEND;TZID=UTC:20160423T110000
DTSTAMP:20260425T103516
CREATED:20160123T023636Z
LAST-MODIFIED:20160123T023636Z
UID:9559-1461335400-1461409200@www.neotechproducts.com
SUMMARY:National Advanced Practice Neonatal Nurses Conference
DESCRIPTION:At the National Advanced Practice Neonatal Nurses Conference neonatal nurses and vendors come together at the perfect venue to network\, exchange ideas\, and improve the quality of nursing education for all neonatal nurses. \nExhibition Hours: \nApril 22nd\, 2016    2:30pm-5:45pm \nApril 23rd\, 2016    7:00am-11:00am \n 
URL:https://www.neotechproducts.com/event/chla-conference/
LOCATION:Sheraton San Diego Hotel & Marina\, 1380 Harbor Island Drive\, San Diego\, CA\, 92101\, United States
END:VEVENT
BEGIN:VEVENT
DTSTART;VALUE=DATE:20160427
DTEND;VALUE=DATE:20160428
DTSTAMP:20260425T103516
CREATED:20160126T024306Z
LAST-MODIFIED:20160126T024306Z
UID:9581-1461715200-1461801599@www.neotechproducts.com
SUMMARY:Pomona Perinatal Symposium
DESCRIPTION:This educational conference is designated for healthcare providers in the fields of obstetrics (including high-risk OB\, labor and delivery\, post-partum\, and nursery) and neonatology. Many of the attendees are nurse managers and supervisors.
URL:https://www.neotechproducts.com/event/pomona-perinatal-symposium/
LOCATION:Sheraton Fairplex Conference Center\, 601 West McKinley Avenue\, Pomona\, CA\, 91768\, United States
END:VEVENT
BEGIN:VEVENT
DTSTART;TZID=UTC:20160429T080000
DTEND;TZID=UTC:20160430T170000
DTSTAMP:20260425T103516
CREATED:20160126T025616Z
LAST-MODIFIED:20160126T025616Z
UID:9584-1461916800-1462035600@www.neotechproducts.com
SUMMARY:International Tracheostomy Symposium
DESCRIPTION:This activity is designed to educate those caring for patients with difficult airway anatomy and/or tracheostomy. Participants will develop a comprehensive knowledge of the indications\, contraindications\, complications\, and postoperative management of tracheostomy. On the first day\, there will be a Global Tracheostomy Collaborative Kick-off meeting in the morning followed by a Patient and Family Session in the afternoon. A concurrent Friday afternoon session covers practical approaches to implementing tracheostomy quality improvement efforts. On the second day\, a Percutaneous Tracheostomy Lab will be held with a didactic session in the morning followed by a hands-on skills session in the afternoon utilizing human cadavers and pig trachea in the Minimally Invasive Surgical Training Lab. Simultaneously\, an Excellence in Tracheostomy Care track will be held that will include state-of-the-art presentations on the management of patients with tracheostomy in the Thomas B. Turner Auditorium.
URL:https://www.neotechproducts.com/event/international-tracheostomy-symposium/
LOCATION:Johns Hopkins University School of Medicine\, Turner Bldg.\, 720 Rutland Ave\, Baltimore\, MD\, United States
END:VEVENT
END:VCALENDAR