BEGIN:VCALENDAR
VERSION:2.0
PRODID:-//Neotech Products - ECPv6.15.20//NONSGML v1.0//EN
CALSCALE:GREGORIAN
METHOD:PUBLISH
X-WR-CALNAME:Neotech Products
X-ORIGINAL-URL:https://www.neotechproducts.com
X-WR-CALDESC:Events for Neotech Products
REFRESH-INTERVAL;VALUE=DURATION:PT1H
X-Robots-Tag:noindex
X-PUBLISHED-TTL:PT1H
BEGIN:VTIMEZONE
TZID:UTC
BEGIN:STANDARD
TZOFFSETFROM:+0000
TZOFFSETTO:+0000
TZNAME:UTC
DTSTART:20160101T000000
END:STANDARD
END:VTIMEZONE
BEGIN:VEVENT
DTSTART;TZID=UTC:20170402T080000
DTEND;TZID=UTC:20170404T170000
DTSTAMP:20260424T130239
CREATED:20170331T212943Z
LAST-MODIFIED:20170331T212943Z
UID:13486-1491120000-1491325200@www.neotechproducts.com
SUMMARY:AORN Global Surgical Conference & Expo
DESCRIPTION:AORN Global Surgical Conference & Expo is coming to Boston\, MA\, April 1-5\, 2017. Join 10\,000 perioperative nurses and exhibitors for five days of learning\, networking\, and inspiration. Learn the latest research and best practices during the 70+ education sessions\, experience hands-on simulation training\, and interact with over 500 exhibitors sharing the latest technology and trends. Discover the power of you at the largest gathering of perioperative nurses in the world.
URL:https://www.neotechproducts.com/event/aorn-global-surgical-conference-expo/
LOCATION:Boston Convention and Exhibition Center\, 415 Summer Street \,  Boston\, MA\, 02210\, United States
END:VEVENT
BEGIN:VEVENT
DTSTART;TZID=UTC:20170402T080000
DTEND;TZID=UTC:20170406T170000
DTSTAMP:20260424T130239
CREATED:20170331T213414Z
LAST-MODIFIED:20170331T213414Z
UID:13489-1491120000-1491498000@www.neotechproducts.com
SUMMARY:AAPOS 43rd Annual Meeting
DESCRIPTION:
URL:https://www.neotechproducts.com/event/aapos-43rd-annual-meeting/
LOCATION:Omni Nashville Hotel\, 250 5th Ave S\, Nashville\, TN\, 37203\, United States
END:VEVENT
BEGIN:VEVENT
DTSTART;TZID=UTC:20170406T080000
DTEND;TZID=UTC:20170406T170000
DTSTAMP:20260424T130239
CREATED:20170331T214414Z
LAST-MODIFIED:20170331T214414Z
UID:13495-1491465600-1491498000@www.neotechproducts.com
SUMMARY:Children's Hospital Los Angeles 11th Annual Neonatal Conference
DESCRIPTION:
URL:https://www.neotechproducts.com/event/11th-annual-neonatal-conference/
LOCATION:CHLA Hospital Taglyan Cultural Complex\, 1201 North Vine St.\, Hollywood\, CA\, 90038\, United States
END:VEVENT
BEGIN:VEVENT
DTSTART;TZID=UTC:20170406T080000
DTEND;TZID=UTC:20170409T170000
DTSTAMP:20260424T130239
CREATED:20170331T213821Z
LAST-MODIFIED:20170331T213821Z
UID:13492-1491465600-1491757200@www.neotechproducts.com
SUMMARY:Society of Pediatric Nurses 27th Annual Conference
DESCRIPTION:Mark your calendars for the premier educational event for pediatric nurses and healthcare professionals\, April 6-9\, 2017\, in West Palm Beach\, Florida!
URL:https://www.neotechproducts.com/event/society-pediatric-nurses-27th-annual-conference/
LOCATION:Palm Beach County Convention Center\, 650 Okeechobee Blvd\, West Palm Beach \, FL\, 33401\, United States
END:VEVENT
BEGIN:VEVENT
DTSTART;TZID=UTC:20170419T080000
DTEND;TZID=UTC:20170422T170000
DTSTAMP:20260424T130239
CREATED:20170331T214910Z
LAST-MODIFIED:20170331T214910Z
UID:13497-1492588800-1492880400@www.neotechproducts.com
SUMMARY:14th Annual National Advanced Practice Neonatal Nurses Conference
DESCRIPTION:ANN is celebrating our 14th National Advanced Practice Neonatal Nurses Conference with a return to everyone’s favorite conference destination\, Hawaii. Expand your nursing knowledge\, earn your CNE credits\, and network your colleagues as you learn from top experts in the field. Connect with your peers as we welcome experienced staff nurses\, neonatal nurse practitioners\, and clinical nurse specialists. \nThis conference offers you a great opportunity to treat yourself and enjoy the islands. We conclude the program each day around 1:00 pm to leave you plenty of time to swim\, snorkel\, shop\, sightsee\, scuba dive\, spa\, and satiate your appetite with sushi and swordfish! No better place to re-energize yourself and return to your unit the best nurse you can be!
URL:https://www.neotechproducts.com/event/14th-annual-national-advanced-practice-neonatal-nurses-conference/
LOCATION:Hilton Hawaiian Village Waikiki Beach Resort\, 2005 Kalia Rd\, Honolulu\, HI\, 96815\, United States
END:VEVENT
BEGIN:VEVENT
DTSTART;TZID=UTC:20170425T080000
DTEND;TZID=UTC:20170429T170000
DTSTAMP:20260424T130239
CREATED:20170331T220104Z
LAST-MODIFIED:20170331T220104Z
UID:13504-1493107200-1493485200@www.neotechproducts.com
SUMMARY:21st Annual NICU Leadership Forum
DESCRIPTION:Synova Associates is pleased to announce our 21st Annual NICU Leadership Forum entitled Play by Play: Winning Strategies for Influential Leaders.  The program blends cutting-edge information from nationally recognized speakers\, panel discussions highlighting clinical and leadership best practices\, individual presentations by meeting attendees\, and many networking and social activities.
URL:https://www.neotechproducts.com/event/21st-annual-nicu-leadership-forum/
LOCATION:The Wigwam\, 300 Wigwam Ln\, Litchfield Park\, AZ\, 85340\, United States
END:VEVENT
BEGIN:VEVENT
DTSTART;TZID=UTC:20170426T080000
DTEND;TZID=UTC:20170426T170000
DTSTAMP:20260424T130239
CREATED:20170331T215703Z
LAST-MODIFIED:20170331T215703Z
UID:13500-1493193600-1493226000@www.neotechproducts.com
SUMMARY:Pomona Valley Hospital Medical Center 27th Annual Perinatal Symposium
DESCRIPTION:This educational conference is designated for healthcare providers in the fields of obstetrics (including high-risk OB\, labor and delivery\, post-partum\, and nursery) and neonatology. Many of the attendees are nurse managers and supervisors. The day is formatted with morning general sessions and afternoon workshops. Both a continental breakfast and sit down luncheon are served with a wine and cheese reception following. \nThe event’s timely topics and key lectures draw in participants representing more than 50 Southern California medical facilities. Last year alone\, there were over 600 participants.
URL:https://www.neotechproducts.com/event/pomona-valley-hospital-medical-center-27th-annual-perinatal-symposium/
LOCATION:Sheraton Fairplex Conference Center\, 601 West McKinley Avenue\, Pomona\, CA\, 91768\, United States
END:VEVENT
END:VCALENDAR