BEGIN:VCALENDAR
VERSION:2.0
PRODID:-//Neotech Products - ECPv6.15.20//NONSGML v1.0//EN
CALSCALE:GREGORIAN
METHOD:PUBLISH
X-ORIGINAL-URL:https://www.neotechproducts.com
X-WR-CALDESC:Events for Neotech Products
REFRESH-INTERVAL;VALUE=DURATION:PT1H
X-Robots-Tag:noindex
X-PUBLISHED-TTL:PT1H
BEGIN:VTIMEZONE
TZID:UTC
BEGIN:STANDARD
TZOFFSETFROM:+0000
TZOFFSETTO:+0000
TZNAME:UTC
DTSTART:20160101T000000
END:STANDARD
END:VTIMEZONE
BEGIN:VTIMEZONE
TZID:America/Los_Angeles
BEGIN:DAYLIGHT
TZOFFSETFROM:-0800
TZOFFSETTO:-0700
TZNAME:PDT
DTSTART:20160313T100000
END:DAYLIGHT
BEGIN:STANDARD
TZOFFSETFROM:-0700
TZOFFSETTO:-0800
TZNAME:PST
DTSTART:20161106T090000
END:STANDARD
BEGIN:DAYLIGHT
TZOFFSETFROM:-0800
TZOFFSETTO:-0700
TZNAME:PDT
DTSTART:20170312T100000
END:DAYLIGHT
BEGIN:STANDARD
TZOFFSETFROM:-0700
TZOFFSETTO:-0800
TZNAME:PST
DTSTART:20171105T090000
END:STANDARD
BEGIN:DAYLIGHT
TZOFFSETFROM:-0800
TZOFFSETTO:-0700
TZNAME:PDT
DTSTART:20180311T100000
END:DAYLIGHT
BEGIN:STANDARD
TZOFFSETFROM:-0700
TZOFFSETTO:-0800
TZNAME:PST
DTSTART:20181104T090000
END:STANDARD
END:VTIMEZONE
BEGIN:VEVENT
DTSTART;TZID=UTC:20171004T080000
DTEND;TZID=UTC:20171007T170000
DTSTAMP:20260424T024715
CREATED:20170727T231250Z
LAST-MODIFIED:20170727T231250Z
UID:13650-1507104000-1507395600@www.neotechproducts.com
SUMMARY:AARC Congress 2017
DESCRIPTION:The AARC International Respiratory Convention & Exhibition is taking place in Indianapolis\, IN — the city USA Today named the #1 convention destination in the country and Travel + Leisure named one of the 50 best places to travel in 2017.
URL:https://www.neotechproducts.com/event/aarc-congress-2017/
LOCATION:Indiana Convention Center\, 100 S. Capitol Avenue\, Indianapolis\, IN\, 48225\, United States
END:VEVENT
BEGIN:VEVENT
DTSTART;TZID=UTC:20171011T080000
DTEND;TZID=UTC:20171014T170000
DTSTAMP:20260424T024715
CREATED:20170727T232049Z
LAST-MODIFIED:20170727T232049Z
UID:13652-1507708800-1508000400@www.neotechproducts.com
SUMMARY:NANN 33rd Annual Conference
DESCRIPTION:Join us at NANN’s upcoming annual conference in historic Providence\, Rhode Island. Learn about our keynote speakers\, conference sessions\, travel information\, and more! Join us and your neonatal nursing peers this fall at the Omni Providence Hotel and Rhode Island Convention Center.
URL:https://www.neotechproducts.com/event/nann-33rd-annual-conference/
LOCATION:Rhode Island Convention Center\, One Sabin Street\, Providence\, RI\, 02903\, United States
END:VEVENT
BEGIN:VEVENT
DTSTART;TZID=America/Los_Angeles:20171015T080000
DTEND;TZID=America/Los_Angeles:20171017T143000
DTSTAMP:20260424T024715
CREATED:20170926T162145Z
LAST-MODIFIED:20170926T162145Z
UID:14855-1508054400-1508250600@www.neotechproducts.com
SUMMARY:Home Care & Hospice
DESCRIPTION:Registration is now open for the 2017 Home Care and Hospice Conference and Expo. Spend quality time with leaders\, educators\, and providers in sunny Long Beach\, California\, as you explore this year’s theme\, Q3: Quality of Care. Quality at Work. Quality at Home. \nHear from a group of speakers and educators who will delve deep into the issues you face daily. Leave empowered and inspired! There will be multiple networking opportunities\, more than 50 hours of home care and hospice-specific education\, and the Expo – the industry’s largest marketplace for buyers and sellers. \nExhibit Hours\nSunday\, October 15: 6:00 – 8:00 PM \nMonday\, October 16: 8:00 AM – 3:30 PM \nTuesday\, October 17: 8:00 AM – 2:30 PM
URL:https://www.neotechproducts.com/event/home-care-hospice/
LOCATION:Long Beach Convention Center\, Long Beach \, CA\, United States
END:VEVENT
END:VCALENDAR