BEGIN:VCALENDAR
VERSION:2.0
PRODID:-//Neotech Products - ECPv6.15.20//NONSGML v1.0//EN
CALSCALE:GREGORIAN
METHOD:PUBLISH
X-WR-CALNAME:Neotech Products
X-ORIGINAL-URL:https://www.neotechproducts.com
X-WR-CALDESC:Events for Neotech Products
REFRESH-INTERVAL;VALUE=DURATION:PT1H
X-Robots-Tag:noindex
X-PUBLISHED-TTL:PT1H
BEGIN:VTIMEZONE
TZID:America/Los_Angeles
BEGIN:DAYLIGHT
TZOFFSETFROM:-0800
TZOFFSETTO:-0700
TZNAME:PDT
DTSTART:20170312T100000
END:DAYLIGHT
BEGIN:STANDARD
TZOFFSETFROM:-0700
TZOFFSETTO:-0800
TZNAME:PST
DTSTART:20171105T090000
END:STANDARD
BEGIN:DAYLIGHT
TZOFFSETFROM:-0800
TZOFFSETTO:-0700
TZNAME:PDT
DTSTART:20180311T100000
END:DAYLIGHT
BEGIN:STANDARD
TZOFFSETFROM:-0700
TZOFFSETTO:-0800
TZNAME:PST
DTSTART:20181104T090000
END:STANDARD
BEGIN:DAYLIGHT
TZOFFSETFROM:-0800
TZOFFSETTO:-0700
TZNAME:PDT
DTSTART:20190310T100000
END:DAYLIGHT
BEGIN:STANDARD
TZOFFSETFROM:-0700
TZOFFSETTO:-0800
TZNAME:PST
DTSTART:20191103T090000
END:STANDARD
END:VTIMEZONE
BEGIN:VEVENT
DTSTART;TZID=America/Los_Angeles:20180405T080000
DTEND;TZID=America/Los_Angeles:20180408T170000
DTSTAMP:20260423T163711
CREATED:20180110T172848Z
LAST-MODIFIED:20180110T172848Z
UID:15933-1522915200-1523206800@www.neotechproducts.com
SUMMARY:28th Annual SPN Conference
DESCRIPTION:Book your flight to Denver\, Colorado from April 5-8\, 2018\, to experience a conference jam-packed with education and networking. With 4 days of sessions\, 500+ pediatric nurses\, and over 22 hours of continuing education\, you don’t want to miss the Pinnacle of Pediatric Care!
URL:https://www.neotechproducts.com/event/28th-annual-spn-conference/
LOCATION:Sheraton Denver Downtown Hotel\, 1550 Court Place\, Denver\, CO\, 80202\, United States
END:VEVENT
BEGIN:VEVENT
DTSTART;TZID=America/Los_Angeles:20180412T080000
DTEND;TZID=America/Los_Angeles:20180412T170000
DTSTAMP:20260423T163711
CREATED:20180226T152826Z
LAST-MODIFIED:20180226T161959Z
UID:16594-1523520000-1523552400@www.neotechproducts.com
SUMMARY:12th Annual CHLA Neonatal Conference
DESCRIPTION:
URL:https://www.neotechproducts.com/event/12th-annual-chla-conference/
LOCATION:CHLA Hospital Taglyan Cultural Complex\, 1201 North Vine St.\, Hollywood\, CA\, 90038\, United States
END:VEVENT
BEGIN:VEVENT
DTSTART;TZID=America/Los_Angeles:20180418T080000
DTEND;TZID=America/Los_Angeles:20180418T170000
DTSTAMP:20260423T163711
CREATED:20180226T152919Z
LAST-MODIFIED:20180226T161155Z
UID:16596-1524038400-1524070800@www.neotechproducts.com
SUMMARY:28th Annual Pomona Perinatal Symposium
DESCRIPTION:
URL:https://www.neotechproducts.com/event/28th-annual-pomona-perinatal-symposium/
LOCATION:Sheraton Fairplex Conference Center\, 601 West McKinley Avenue\, Pomona\, CA\, 91768\, United States
END:VEVENT
END:VCALENDAR