BEGIN:VCALENDAR
VERSION:2.0
PRODID:-//Neotech Products - ECPv6.15.20//NONSGML v1.0//EN
CALSCALE:GREGORIAN
METHOD:PUBLISH
X-ORIGINAL-URL:https://www.neotechproducts.com
X-WR-CALDESC:Events for Neotech Products
REFRESH-INTERVAL;VALUE=DURATION:PT1H
X-Robots-Tag:noindex
X-PUBLISHED-TTL:PT1H
BEGIN:VTIMEZONE
TZID:America/Los_Angeles
BEGIN:DAYLIGHT
TZOFFSETFROM:-0800
TZOFFSETTO:-0700
TZNAME:PDT
DTSTART:20170312T100000
END:DAYLIGHT
BEGIN:STANDARD
TZOFFSETFROM:-0700
TZOFFSETTO:-0800
TZNAME:PST
DTSTART:20171105T090000
END:STANDARD
BEGIN:DAYLIGHT
TZOFFSETFROM:-0800
TZOFFSETTO:-0700
TZNAME:PDT
DTSTART:20180311T100000
END:DAYLIGHT
BEGIN:STANDARD
TZOFFSETFROM:-0700
TZOFFSETTO:-0800
TZNAME:PST
DTSTART:20181104T090000
END:STANDARD
BEGIN:DAYLIGHT
TZOFFSETFROM:-0800
TZOFFSETTO:-0700
TZNAME:PDT
DTSTART:20190310T100000
END:DAYLIGHT
BEGIN:STANDARD
TZOFFSETFROM:-0700
TZOFFSETTO:-0800
TZNAME:PST
DTSTART:20191103T090000
END:STANDARD
END:VTIMEZONE
BEGIN:VEVENT
DTSTART;TZID=America/Los_Angeles:20180816T080000
DTEND;TZID=America/Los_Angeles:20180816T170000
DTSTAMP:20260423T093233
CREATED:20180111T185124Z
LAST-MODIFIED:20180719T184524Z
UID:15949-1534406400-1534438800@www.neotechproducts.com
SUMMARY:5th Annual Neotech CARES
DESCRIPTION:Neotech CARES (Clinical And Research Educational Symposium) is a continuing education symposium for clinicians that focuses on the needs of the patients\, families and caregivers. \nThis event will cover topics that are relevant to neonatal and home health nurses\, therapists\, and physicians. \nTopics include:\nPrevention and Management of Meconium Aspiration Syndrome\n– Dr. Thomas Wiswell \nDiagnosis of Newborn Encephalopathy including HIE \n– Dr. Thomas Wiswell \nNICU Disaster Preparedness\n– Dr. Adam Czynski \nHumanitarian Healthcare\n– Sean Smith\, BSN\, Certified Flight Nurse-Paramedic \nHot Topics Panel Discussion \n– CARES speakers share their thoughts on neonatal care \nNICU Life – Parent Perspectives \n– Andrea and Steve Beard \n 
URL:https://www.neotechproducts.com/event/neotech-cares-2/
LOCATION:Hyatt Regency Valencia\, 24500 Town Center Drive\, Valencia\, CA\, 91355\, United States
END:VEVENT
BEGIN:VEVENT
DTSTART;TZID=America/Los_Angeles:20180825T080000
DTEND;TZID=America/Los_Angeles:20180825T170000
DTSTAMP:20260423T093233
CREATED:20180803T145346Z
LAST-MODIFIED:20180803T145346Z
UID:18353-1535184000-1535216400@www.neotechproducts.com
SUMMARY:Henry Mayo Newhall Hospital Respiratory Symposium 2018
DESCRIPTION:This dynamic\, integrated symposium will provide healthcare professional with the most comprehensive information vital to core knowledge base of the respiratory patient.
URL:https://www.neotechproducts.com/event/henry-mayo-newhall-hospital-respiratory-symposium-2018/
LOCATION:Henry Mayo Center\, 23803 McBean Pkwy\, Santa Clarita\, CA\, 91355\, United States
END:VEVENT
END:VCALENDAR