BEGIN:VCALENDAR
VERSION:2.0
PRODID:-//Neotech Products - ECPv6.15.20//NONSGML v1.0//EN
CALSCALE:GREGORIAN
METHOD:PUBLISH
X-WR-CALNAME:Neotech Products
X-ORIGINAL-URL:https://www.neotechproducts.com
X-WR-CALDESC:Events for Neotech Products
REFRESH-INTERVAL;VALUE=DURATION:PT1H
X-Robots-Tag:noindex
X-PUBLISHED-TTL:PT1H
BEGIN:VTIMEZONE
TZID:America/Los_Angeles
BEGIN:DAYLIGHT
TZOFFSETFROM:-0800
TZOFFSETTO:-0700
TZNAME:PDT
DTSTART:20170312T100000
END:DAYLIGHT
BEGIN:STANDARD
TZOFFSETFROM:-0700
TZOFFSETTO:-0800
TZNAME:PST
DTSTART:20171105T090000
END:STANDARD
BEGIN:DAYLIGHT
TZOFFSETFROM:-0800
TZOFFSETTO:-0700
TZNAME:PDT
DTSTART:20180311T100000
END:DAYLIGHT
BEGIN:STANDARD
TZOFFSETFROM:-0700
TZOFFSETTO:-0800
TZNAME:PST
DTSTART:20181104T090000
END:STANDARD
BEGIN:DAYLIGHT
TZOFFSETFROM:-0800
TZOFFSETTO:-0700
TZNAME:PDT
DTSTART:20190310T100000
END:DAYLIGHT
BEGIN:STANDARD
TZOFFSETFROM:-0700
TZOFFSETTO:-0800
TZNAME:PST
DTSTART:20191103T090000
END:STANDARD
END:VTIMEZONE
BEGIN:VEVENT
DTSTART;TZID=America/Los_Angeles:20180905T173000
DTEND;TZID=America/Los_Angeles:20180907T110000
DTSTAMP:20260423T093157
CREATED:20180110T221758Z
LAST-MODIFIED:20180719T185430Z
UID:15953-1536168600-1536318000@www.neotechproducts.com
SUMMARY:18th National Neonatal Nurses Conference
DESCRIPTION:The Academy of Neonatal Nursing (ANN) returns to one the world’s most popular destinations\, New Orleans! A city where anything can happen and usually does. The sights\, sounds\, and smells of New Orleans conjure up another world of French-flavored charm mixed with an air of “Laissez les bon temps rouler” (Let the good times roll)! \nIt’s historic neighborhoods\, from the Garden District of mansion-lined streets to Washington Square\, to the revitalized Warehouse District\, wait to be discovered by the adventuresome visitor. You won’t find more abundant food and live music anywhere than in this unique and authentic city. Mark your calendar! \nCome visit Neotech at Booth 1017! \nExhibit Hours:\nWednesday\, 9/5: 5:30 – 7:00PM\nThursday\, 9/6: 9:00AM – 2:00PM\nFriday\, 9/7: 9:00 – 11:15AM
URL:https://www.neotechproducts.com/event/18th-national-neonatal-nurses-conference/
LOCATION:Hyatt Regency New Orleans\, 601 Layola Avenue\, New Orleans\, LA\, 70113\, United States
END:VEVENT
BEGIN:VEVENT
DTSTART;TZID=America/Los_Angeles:20180913T080000
DTEND;TZID=America/Los_Angeles:20180915T170000
DTSTAMP:20260423T093157
CREATED:20180110T223754Z
LAST-MODIFIED:20180719T194503Z
UID:15957-1536825600-1537030800@www.neotechproducts.com
SUMMARY:42nd Annual APHON Conference
DESCRIPTION:The Annual Conference and Exhibit is the premier educational experience for nurses who specialize in pediatric hematology/oncology nursing and your opportunity to gain valuable knowledge from experts in the field\, examine current and future trends\, network with nurses who experience the same daily challenges\, and earn continuing nursing education credit for advanced practice nurses. The annual conference is held in the fall annually. \nCome Visit Neotech at Booth 417!
URL:https://www.neotechproducts.com/event/42nd-annual-aphon-conference/
LOCATION:Savannah International Trade & Convention Center\, 1 International Drive\, Savannah\, GA\, 31421\, United States
END:VEVENT
BEGIN:VEVENT
DTSTART;TZID=America/Los_Angeles:20180914T080000
DTEND;TZID=America/Los_Angeles:20180915T170000
DTSTAMP:20260423T093157
CREATED:20180110T225432Z
LAST-MODIFIED:20180719T195059Z
UID:15961-1536912000-1537030800@www.neotechproducts.com
SUMMARY:FOCUS Fall 2018
DESCRIPTION:Welcome to the FOCUS Fall 2018 Conference at the beautiful Hotel Irvine in Irvine California – FOCUS’s first return trip to the West coast in 7 years! \nAcademically\, we’ll present 14 pertinent lectures for RTs\, 14 for Pulmonary Function Technologists\, 14 for Managers and 14 for Sleep Technologists by some of the most esteemed speakers in the U.S. today\, enabling attendees to earn 14 credits in just 2 days. \nRT and PFT lectures (including management lectures) will be approved for CRCEs while our sleep lectures will be approved for CSTEs and CECs via the BRPT and the AAST. Our track of PFT lectures will enable PFT technologists to earn 14 credits specific to pulmonary function testing\, something most conferences don’t offer!!
URL:https://www.neotechproducts.com/event/focus-fall-2018/
LOCATION:Hotel Irvine\, 17900 Jamboree Road\, Irvine\, CA\, 92612\, United States
END:VEVENT
BEGIN:VEVENT
DTSTART;TZID=America/Los_Angeles:20180920T080000
DTEND;TZID=America/Los_Angeles:20180920T170000
DTSTAMP:20260423T093157
CREATED:20180803T144511Z
LAST-MODIFIED:20180803T144511Z
UID:18349-1537430400-1537462800@www.neotechproducts.com
SUMMARY:ICANN 2018
DESCRIPTION:The Inland Empire’s premier conference is just around the corner and with a fabulous program in mind.  The Inland Counties Association of Neonatal Nurses (ICANN) local chapter of the National Association of Neonatal Nurses is getting ready to have their annual daylong conference titled “A String of Pearls” and we really are giving pearls away! This year’s conference will take place on Thursday\, September 20th\, 2018 at the Marriott by the Convention Center\, 3400 Market St.\, Riverside\, CA. 92501 and we are looking forward to having you there.
URL:https://www.neotechproducts.com/event/icann-2018/
LOCATION:Marriott Riverside at the Convention Center\, 3400 Market Street\, Riverside\, CA\, 92501\, United States
END:VEVENT
END:VCALENDAR