BEGIN:VCALENDAR
VERSION:2.0
PRODID:-//Neotech Products - ECPv6.15.20//NONSGML v1.0//EN
CALSCALE:GREGORIAN
METHOD:PUBLISH
X-ORIGINAL-URL:https://www.neotechproducts.com
X-WR-CALDESC:Events for Neotech Products
REFRESH-INTERVAL;VALUE=DURATION:PT1H
X-Robots-Tag:noindex
X-PUBLISHED-TTL:PT1H
BEGIN:VTIMEZONE
TZID:America/Los_Angeles
BEGIN:DAYLIGHT
TZOFFSETFROM:-0800
TZOFFSETTO:-0700
TZNAME:PDT
DTSTART:20180311T100000
END:DAYLIGHT
BEGIN:STANDARD
TZOFFSETFROM:-0700
TZOFFSETTO:-0800
TZNAME:PST
DTSTART:20181104T090000
END:STANDARD
BEGIN:DAYLIGHT
TZOFFSETFROM:-0800
TZOFFSETTO:-0700
TZNAME:PDT
DTSTART:20190310T100000
END:DAYLIGHT
BEGIN:STANDARD
TZOFFSETFROM:-0700
TZOFFSETTO:-0800
TZNAME:PST
DTSTART:20191103T090000
END:STANDARD
BEGIN:DAYLIGHT
TZOFFSETFROM:-0800
TZOFFSETTO:-0700
TZNAME:PDT
DTSTART:20200308T100000
END:DAYLIGHT
BEGIN:STANDARD
TZOFFSETFROM:-0700
TZOFFSETTO:-0800
TZNAME:PST
DTSTART:20201101T090000
END:STANDARD
END:VTIMEZONE
BEGIN:VEVENT
DTSTART;TZID=America/Los_Angeles:20190411T080000
DTEND;TZID=America/Los_Angeles:20190411T170000
DTSTAMP:20260422T201950
CREATED:20190328T182810Z
LAST-MODIFIED:20190328T183045Z
UID:20990-1554969600-1555002000@www.neotechproducts.com
SUMMARY:13th Annual CHLA Neonatal Conference
DESCRIPTION:Details coming soon!
URL:https://www.neotechproducts.com/event/13th-annual-chla-neonatal-conference/
LOCATION:CHLA Hospital Taglyan Cultural Complex\, 1201 North Vine St.\, Hollywood\, CA\, 90038\, United States
END:VEVENT
BEGIN:VEVENT
DTSTART;TZID=America/Los_Angeles:20190424T080000
DTEND;TZID=America/Los_Angeles:20190424T170000
DTSTAMP:20260422T201950
CREATED:20181221T164907Z
LAST-MODIFIED:20181221T164907Z
UID:19709-1556092800-1556125200@www.neotechproducts.com
SUMMARY:29th Annual Pomona Perinatal Symposium
DESCRIPTION:This symposium is designed for physicians\, nurses and other health care professionals responsible for the care of mothers and/or neonates. The faculty will address the management if various clinical situations that arise in the practice of obstetrics and neonatal care. Topics presented will explore areas of rapid change with an emphasis on optimizing the outcome for mother and infant. For more information please email Antonia.Cisneros@pvhmc.org
URL:https://www.neotechproducts.com/event/29th-annual-pomona-perinatal-symposium/
LOCATION:Sheraton Fairplex Conference Center\, 601 West McKinley Avenue\, Pomona\, CA\, 91768\, United States
END:VEVENT
BEGIN:VEVENT
DTSTART;TZID=America/Los_Angeles:20190424T080000
DTEND;TZID=America/Los_Angeles:20190427T170000
DTSTAMP:20260422T201950
CREATED:20181221T164419Z
LAST-MODIFIED:20181221T172255Z
UID:19705-1556092800-1556384400@www.neotechproducts.com
SUMMARY:The 29th Annual Society of Pediatric Nursing Conference
DESCRIPTION:The SPN Annual Conference showcases education and advancements across the breadth of the pediatric nursing profession. Join SPN in Washington\, D.C. from April 24-27\, 2019\, to experience a conference jam-packed with opportunities to engage and network with colleagues and pursue professional development\, all while earning contact hours. With 4 days of sessions and 500+ pediatric nurses\, you don’t want to miss this event!
URL:https://www.neotechproducts.com/event/the-29th-annual-society-of-pediatric-nursing-conference/
LOCATION:Omni Shoreham Hotel\, 2500 Calvert St NW\, Washington\, DC\, 20008\, United States
END:VEVENT
BEGIN:VEVENT
DTSTART;TZID=America/Los_Angeles:20190428T080000
DTEND;TZID=America/Los_Angeles:20190502T170000
DTSTAMP:20260422T201950
CREATED:20181221T165331Z
LAST-MODIFIED:20181221T165331Z
UID:19711-1556438400-1556816400@www.neotechproducts.com
SUMMARY:23rd Annual NICU Leadership Forum
DESCRIPTION:Clock in\, clock out\, repeat. \nDoes this sound familiar? If so\, you’re not alone! Staff engagement is one of the biggest challenges facing NICU leaders today. Disengaged staff can create a toxic environment\, impacting other staff and the care experience of patients and their families. \nHow do you transform a disengaged workforce into one that is not only engaged but empowered? And\, how do you keep your staff invested year over year? \nAt the 2019 NICU Leadership Forum you will learn from the collective experiences of NICU leaders to advance your unit to the next level by giving you tangible strategies for success.  You’ll be immersed in an energetic\, thought-provoking and rejuvenating conference experience suited to both new and seasoned leaders. \nOur keynote speaker\, Diane Rogers\, is known for her positive\, collaborative\, strengths-based leadership style\, encouraging individuals & organizations to “think differently” to create effective\, inventive programs designed to cultivate a culture where caring\, human experiences occur. \nAt the 2019 NICU Leadership Forum\, you can expect: \n\nLeadership experts who map out clear strategies for success\nNumerous opportunities to network\, meet and exchange ideas\nSmall group time to share best practices and challenges\nAccess to innovative ideas\, products and services\nTherapeutic environment at a 5-star resort
URL:https://www.neotechproducts.com/event/23rd-annual-nicu-leadership-forum/
LOCATION:The Wigwam\, 300 Wigwam Ln\, Litchfield Park\, AZ\, 85340\, United States
END:VEVENT
END:VCALENDAR